BEGIN:VCALENDAR
VERSION:2.0
PRODID:-//Pan-African Connection - ECPv6.15.20//NONSGML v1.0//EN
CALSCALE:GREGORIAN
METHOD:PUBLISH
X-ORIGINAL-URL:https://panafricanconnection.com
X-WR-CALDESC:Events for Pan-African Connection
REFRESH-INTERVAL;VALUE=DURATION:PT1H
X-Robots-Tag:noindex
X-PUBLISHED-TTL:PT1H
BEGIN:VTIMEZONE
TZID:America/Chicago
BEGIN:DAYLIGHT
TZOFFSETFROM:-0600
TZOFFSETTO:-0500
TZNAME:CDT
DTSTART:20240310T080000
END:DAYLIGHT
BEGIN:STANDARD
TZOFFSETFROM:-0500
TZOFFSETTO:-0600
TZNAME:CST
DTSTART:20241103T070000
END:STANDARD
BEGIN:DAYLIGHT
TZOFFSETFROM:-0600
TZOFFSETTO:-0500
TZNAME:CDT
DTSTART:20250309T080000
END:DAYLIGHT
BEGIN:STANDARD
TZOFFSETFROM:-0500
TZOFFSETTO:-0600
TZNAME:CST
DTSTART:20251102T070000
END:STANDARD
BEGIN:DAYLIGHT
TZOFFSETFROM:-0600
TZOFFSETTO:-0500
TZNAME:CDT
DTSTART:20260308T080000
END:DAYLIGHT
BEGIN:STANDARD
TZOFFSETFROM:-0500
TZOFFSETTO:-0600
TZNAME:CST
DTSTART:20261101T070000
END:STANDARD
END:VTIMEZONE
BEGIN:VEVENT
DTSTART;TZID=America/Chicago:20250613T100000
DTEND;TZID=America/Chicago:20250613T120000
DTSTAMP:20260424T031153
CREATED:20250612T151730Z
LAST-MODIFIED:20250612T151730Z
UID:8090-1749808800-1749816000@panafricanconnection.com
SUMMARY:Ubuntu People's Farm Foraging Tour
DESCRIPTION:
URL:https://panafricanconnection.com/event/ubuntu-peoples-farm-foraging-tour/
LOCATION:Ubuntu Peoples Farm\, 3965 Rendon Rd\, Fort Worth\, TX\, 76140\, United States
CATEGORIES:ubuntu Peoples Farm,Urban farming
ATTACH;FMTTYPE=image/jpeg:https://panafricanconnection.com/wp-content/uploads/505522508_698047402972529_7489945990940076077_nforage.jpg
ORGANIZER;CN="Ubuntu Peoples Farm":MAILTO:akwete@icloud.com
END:VEVENT
BEGIN:VEVENT
DTSTART;TZID=America/Chicago:20250614T130000
DTEND;TZID=America/Chicago:20250614T160000
DTSTAMP:20260424T031153
CREATED:20250612T153746Z
LAST-MODIFIED:20250612T153746Z
UID:8100-1749906000-1749916800@panafricanconnection.com
SUMMARY:Basic Automotive Awareness
DESCRIPTION:
URL:https://panafricanconnection.com/event/basic-automotive-awareness/
LOCATION:Pan African Connection Bookstore\, 4466 SOUTH MARSALIS AVE\, DALLAS\, TX\, 75216\, United States
ORGANIZER;CN="Pan-African Connection Bookstore":MAILTO:panafric@airmail.net
END:VEVENT
BEGIN:VEVENT
DTSTART;TZID=America/Chicago:20250614T170000
DTEND;TZID=America/Chicago:20250614T190000
DTSTAMP:20260424T031153
CREATED:20250612T150910Z
LAST-MODIFIED:20250612T150910Z
UID:8085-1749920400-1749927600@panafricanconnection.com
SUMMARY:DIY Book Making and Black Publishing Practices
DESCRIPTION:
URL:https://panafricanconnection.com/event/diy-book-making-and-black-publishing-practices/
LOCATION:Pan African Connection Bookstore\, 4466 SOUTH MARSALIS AVE\, DALLAS\, TX\, 75216\, United States
CATEGORIES:Book Signing
ATTACH;FMTTYPE=image/jpeg:https://panafricanconnection.com/wp-content/uploads/506612804_699898182787451_5018077130205928932_ndi.jpg
ORGANIZER;CN="Pan-African Connection Bookstore":MAILTO:panafric@airmail.net
END:VEVENT
BEGIN:VEVENT
DTSTART;TZID=America/Chicago:20250615T130000
DTEND;TZID=America/Chicago:20250615T150000
DTSTAMP:20260424T031153
CREATED:20250612T152437Z
LAST-MODIFIED:20250612T152437Z
UID:8096-1749992400-1749999600@panafricanconnection.com
SUMMARY:Book Signing Grandma's Secrets
DESCRIPTION:
URL:https://panafricanconnection.com/event/book-signing-grandmas-secrets/
LOCATION:Pan African Connection Bookstore\, 4466 SOUTH MARSALIS AVE\, DALLAS\, TX\, 75216\, United States
CATEGORIES:Book Signing
ATTACH;FMTTYPE=image/jpeg:https://panafricanconnection.com/wp-content/uploads/503431012_692474193529850_653016303763247388_n.jpg
ORGANIZER;CN="Pan-African Connection Bookstore":MAILTO:panafric@airmail.net
END:VEVENT
BEGIN:VEVENT
DTSTART;TZID=America/Chicago:20250615T130000
DTEND;TZID=America/Chicago:20250615T170000
DTSTAMP:20260424T031153
CREATED:20250612T150303Z
LAST-MODIFIED:20250612T150303Z
UID:8079-1749992400-1750006800@panafricanconnection.com
SUMMARY:Ubuntu Farmers Market Juneteenth Edition
DESCRIPTION:
URL:https://panafricanconnection.com/event/ubuntu-farmers-market-juneteenth-edition/
LOCATION:Pan African Connection Bookstore\, 4466 SOUTH MARSALIS AVE\, DALLAS\, TX\, 75216\, United States
CATEGORIES:farmers Market
ATTACH;FMTTYPE=image/jpeg:https://panafricanconnection.com/wp-content/uploads/506413116_699837902793479_3008778788128257201_njune-1.jpg
ORGANIZER;CN="Pan-African Connection Bookstore":MAILTO:panafric@airmail.net
END:VEVENT
BEGIN:VEVENT
DTSTART;TZID=America/Chicago:20250621T090000
DTEND;TZID=America/Chicago:20250621T120000
DTSTAMP:20260424T031153
CREATED:20250612T150652Z
LAST-MODIFIED:20250612T150652Z
UID:8082-1750496400-1750507200@panafricanconnection.com
SUMMARY:Ubuntu's Peoples Farm Juneteenth Family Fun Day
DESCRIPTION:
URL:https://panafricanconnection.com/event/ubuntus-peoples-farm-juneteenth-family-fun-day/
LOCATION:Ubuntu Peoples Farm\, 3965 Rendon Rd\, Fort Worth\, TX\, 76140\, United States
CATEGORIES:Farming
ATTACH;FMTTYPE=image/jpeg:https://panafricanconnection.com/wp-content/uploads/505819728_698640589579877_6198390115104599444_nfarm.jpg
ORGANIZER;CN="Ubuntu Peoples Farm":MAILTO:akwete@icloud.com
END:VEVENT
BEGIN:VEVENT
DTSTART;TZID=America/Chicago:20250621T150000
DTEND;TZID=America/Chicago:20250621T190000
DTSTAMP:20260424T031153
CREATED:20250612T152002Z
LAST-MODIFIED:20250612T152002Z
UID:8092-1750518000-1750532400@panafricanconnection.com
SUMMARY:Locsgiving Juneteenth Edition
DESCRIPTION:
URL:https://panafricanconnection.com/event/locsgiving-juneteenth-edition/
LOCATION:Pan African Connection Bookstore\, 4466 SOUTH MARSALIS AVE\, DALLAS\, TX\, 75216\, United States
ATTACH;FMTTYPE=image/jpeg:https://panafricanconnection.com/wp-content/uploads/503470537_692518416858761_5666692042083928734_nlocs.jpg
ORGANIZER;CN="Pan-African Connection Bookstore":MAILTO:panafric@airmail.net
END:VEVENT
BEGIN:VEVENT
DTSTART;TZID=America/Chicago:20250621T153000
DTEND;TZID=America/Chicago:20250621T170000
DTSTAMP:20260424T031153
CREATED:20250612T151123Z
LAST-MODIFIED:20250612T151123Z
UID:8087-1750519800-1750525200@panafricanconnection.com
SUMMARY:Junteenth Crown Act Celebration
DESCRIPTION:
URL:https://panafricanconnection.com/event/junteenth-crown-act-celebration/
LOCATION:Pan African Connection Bookstore\, 4466 SOUTH MARSALIS AVE\, DALLAS\, TX\, 75216\, United States
CATEGORIES:Children's arts and crafts
ATTACH;FMTTYPE=image/jpeg:https://panafricanconnection.com/wp-content/uploads/506452620_699423306168272_9095758732775102957_ncrown.jpg
ORGANIZER;CN="Pan-African Connection Bookstore":MAILTO:panafric@airmail.net
END:VEVENT
BEGIN:VEVENT
DTSTART;TZID=America/Chicago:20250628T110000
DTEND;TZID=America/Chicago:20250628T130000
DTSTAMP:20260424T031153
CREATED:20250612T152253Z
LAST-MODIFIED:20250612T152253Z
UID:8094-1751108400-1751115600@panafricanconnection.com
SUMMARY:Father Daughter Natural Hair Workshop
DESCRIPTION:
URL:https://panafricanconnection.com/event/father-daughter-natural-hair-workshop/
LOCATION:Pan African Connection Bookstore\, 4466 SOUTH MARSALIS AVE\, DALLAS\, TX\, 75216\, United States
ATTACH;FMTTYPE=image/jpeg:https://panafricanconnection.com/wp-content/uploads/503355889_692492370194699_7084876657021668747_nhair.jpg
ORGANIZER;CN="Pan-African Connection Bookstore":MAILTO:panafric@airmail.net
END:VEVENT
BEGIN:VEVENT
DTSTART;TZID=America/Chicago:20250629T130000
DTEND;TZID=America/Chicago:20250629T150000
DTSTAMP:20260424T031153
CREATED:20250626T182301Z
LAST-MODIFIED:20250626T182301Z
UID:8114-1751202000-1751209200@panafricanconnection.com
SUMMARY:Book Signing:Leadership Wisdom For all Ages
DESCRIPTION:
URL:https://panafricanconnection.com/event/book-signingleadership-wisdom-for-all-ages/
LOCATION:Pan African Connection Bookstore\, 4466 SOUTH MARSALIS AVE\, DALLAS\, TX\, 75216\, United States
CATEGORIES:Book Signing
ATTACH;FMTTYPE=image/jpeg:https://panafricanconnection.com/wp-content/uploads/513220594_710489125061690_7626633131245389154_n.jpg
ORGANIZER;CN="Pan-African Connection Bookstore":MAILTO:panafric@airmail.net
END:VEVENT
BEGIN:VEVENT
DTSTART;TZID=America/Chicago:20250629T130000
DTEND;TZID=America/Chicago:20250629T150000
DTSTAMP:20260424T031153
CREATED:20250626T182554Z
LAST-MODIFIED:20250626T182554Z
UID:8117-1751202000-1751209200@panafricanconnection.com
SUMMARY:Book Signing James Hunter - Ibeji ; One soul Two Bodies
DESCRIPTION:
URL:https://panafricanconnection.com/event/book-signing-james-hunter-ibeji-one-soul-two-bodies/
LOCATION:Pan African Connection Bookstore\, 4466 SOUTH MARSALIS AVE\, DALLAS\, TX\, 75216\, United States
CATEGORIES:Book Signing
ATTACH;FMTTYPE=image/jpeg:https://panafricanconnection.com/wp-content/uploads/512717833_710491738394762_5638076868268101181_n.jpg
ORGANIZER;CN="Pan-African Connection Bookstore":MAILTO:panafric@airmail.net
END:VEVENT
END:VCALENDAR