BEGIN:VCALENDAR
VERSION:2.0
PRODID:-//Pan-African Connection - ECPv6.15.20//NONSGML v1.0//EN
CALSCALE:GREGORIAN
METHOD:PUBLISH
X-WR-CALNAME:Pan-African Connection
X-ORIGINAL-URL:https://panafricanconnection.com
X-WR-CALDESC:Events for Pan-African Connection
REFRESH-INTERVAL;VALUE=DURATION:PT1H
X-Robots-Tag:noindex
X-PUBLISHED-TTL:PT1H
BEGIN:VTIMEZONE
TZID:America/Chicago
BEGIN:DAYLIGHT
TZOFFSETFROM:-0600
TZOFFSETTO:-0500
TZNAME:CDT
DTSTART:20240310T080000
END:DAYLIGHT
BEGIN:STANDARD
TZOFFSETFROM:-0500
TZOFFSETTO:-0600
TZNAME:CST
DTSTART:20241103T070000
END:STANDARD
BEGIN:DAYLIGHT
TZOFFSETFROM:-0600
TZOFFSETTO:-0500
TZNAME:CDT
DTSTART:20250309T080000
END:DAYLIGHT
BEGIN:STANDARD
TZOFFSETFROM:-0500
TZOFFSETTO:-0600
TZNAME:CST
DTSTART:20251102T070000
END:STANDARD
BEGIN:DAYLIGHT
TZOFFSETFROM:-0600
TZOFFSETTO:-0500
TZNAME:CDT
DTSTART:20260308T080000
END:DAYLIGHT
BEGIN:STANDARD
TZOFFSETFROM:-0500
TZOFFSETTO:-0600
TZNAME:CST
DTSTART:20261101T070000
END:STANDARD
END:VTIMEZONE
BEGIN:VEVENT
DTSTART;TZID=America/Chicago:20250412T100000
DTEND;TZID=America/Chicago:20250412T130000
DTSTAMP:20260424T073511
CREATED:20250412T012006Z
LAST-MODIFIED:20250412T012006Z
UID:8003-1744452000-1744462800@panafricanconnection.com
SUMMARY:Ubuntu People's Farm Community Volunteer Day
DESCRIPTION: 
URL:https://panafricanconnection.com/event/ubuntu-peoples-farm-community-volunteer-day/
LOCATION:Pan African Connection Bookstore\, 4466 SOUTH MARSALIS AVE\, DALLAS\, TX\, 75216\, United States
CATEGORIES:Farming
ATTACH;FMTTYPE=image/jpeg:https://panafricanconnection.com/wp-content/uploads/490367990_654048154039121_4864075167573816943_n-1.jpg
ORGANIZER;CN="Pan-African Connection Bookstore":MAILTO:panafric@airmail.net
END:VEVENT
BEGIN:VEVENT
DTSTART;TZID=America/Chicago:20250412T120000
DTEND;TZID=America/Chicago:20250412T170000
DTSTAMP:20260424T073511
CREATED:20250412T013316Z
LAST-MODIFIED:20250412T013316Z
UID:8020-1744459200-1744477200@panafricanconnection.com
SUMMARY:Mark your calendar Malcolm X' 100th Birthday
DESCRIPTION:
URL:https://panafricanconnection.com/event/mark-your-calendar-malcolm-x-100th-birthday/
LOCATION:Pan African Connection Bookstore\, 4466 SOUTH MARSALIS AVE\, DALLAS\, TX\, 75216\, United States
ATTACH;FMTTYPE=image/jpeg:https://panafricanconnection.com/wp-content/uploads/489835199_682090061013837_6873528843482107391_n-malx.jpg
ORGANIZER;CN="Pan-African Connection Bookstore":MAILTO:panafric@airmail.net
END:VEVENT
BEGIN:VEVENT
DTSTART;TZID=America/Chicago:20250412T150000
DTEND;TZID=America/Chicago:20250412T170000
DTSTAMP:20260424T073511
CREATED:20250412T013046Z
LAST-MODIFIED:20250412T013046Z
UID:8018-1744470000-1744477200@panafricanconnection.com
SUMMARY:African Americans and Palestine
DESCRIPTION:
URL:https://panafricanconnection.com/event/african-americans-and-palestine/
LOCATION:Pan African Connection Bookstore\, 4466 SOUTH MARSALIS AVE\, DALLAS\, TX\, 75216\, United States
ATTACH;FMTTYPE=image/jpeg:https://panafricanconnection.com/wp-content/uploads/490200517_653343774109559_5139658241909597979_npal.jpg
ORGANIZER;CN="Pan-African Connection Bookstore":MAILTO:panafric@airmail.net
END:VEVENT
BEGIN:VEVENT
DTSTART;TZID=America/Chicago:20250413T130000
DTEND;TZID=America/Chicago:20250413T150000
DTSTAMP:20260424T073511
CREATED:20250412T012358Z
LAST-MODIFIED:20250412T012358Z
UID:8012-1744549200-1744556400@panafricanconnection.com
SUMMARY:Need Money For College?
DESCRIPTION:Need Money for College?
URL:https://panafricanconnection.com/event/need-money-for-college/
LOCATION:Pan African Connection Bookstore\, 4466 SOUTH MARSALIS AVE\, DALLAS\, TX\, 75216\, United States
CATEGORIES:collegefunding
ATTACH;FMTTYPE=image/jpeg:https://panafricanconnection.com/wp-content/uploads/490313792_655200163923920_4737873740982920388_nvollege.jpg
ORGANIZER;CN="Pan-African Connection Bookstore":MAILTO:panafric@airmail.net
END:VEVENT
BEGIN:VEVENT
DTSTART;TZID=America/Chicago:20250413T150000
DTEND;TZID=America/Chicago:20250413T170000
DTSTAMP:20260424T073511
CREATED:20250412T012738Z
LAST-MODIFIED:20250412T012738Z
UID:8015-1744556400-1744563600@panafricanconnection.com
SUMMARY:African Drum Circle
DESCRIPTION:
URL:https://panafricanconnection.com/event/african-drum-circle-2/
LOCATION:Pan African Connection Bookstore\, 4466 SOUTH MARSALIS AVE\, DALLAS\, TX\, 75216\, United States
ORGANIZER;CN="Pan-African Connection Bookstore":MAILTO:panafric@airmail.net
END:VEVENT
END:VCALENDAR