BEGIN:VCALENDAR
VERSION:2.0
PRODID:-//Pan-African Connection - ECPv6.15.20//NONSGML v1.0//EN
CALSCALE:GREGORIAN
METHOD:PUBLISH
X-WR-CALNAME:Pan-African Connection
X-ORIGINAL-URL:https://panafricanconnection.com
X-WR-CALDESC:Events for Pan-African Connection
REFRESH-INTERVAL;VALUE=DURATION:PT1H
X-Robots-Tag:noindex
X-PUBLISHED-TTL:PT1H
BEGIN:VTIMEZONE
TZID:America/Chicago
BEGIN:DAYLIGHT
TZOFFSETFROM:-0600
TZOFFSETTO:-0500
TZNAME:CDT
DTSTART:20220313T080000
END:DAYLIGHT
BEGIN:STANDARD
TZOFFSETFROM:-0500
TZOFFSETTO:-0600
TZNAME:CST
DTSTART:20221106T070000
END:STANDARD
BEGIN:DAYLIGHT
TZOFFSETFROM:-0600
TZOFFSETTO:-0500
TZNAME:CDT
DTSTART:20230312T080000
END:DAYLIGHT
BEGIN:STANDARD
TZOFFSETFROM:-0500
TZOFFSETTO:-0600
TZNAME:CST
DTSTART:20231105T070000
END:STANDARD
BEGIN:DAYLIGHT
TZOFFSETFROM:-0600
TZOFFSETTO:-0500
TZNAME:CDT
DTSTART:20240310T080000
END:DAYLIGHT
BEGIN:STANDARD
TZOFFSETFROM:-0500
TZOFFSETTO:-0600
TZNAME:CST
DTSTART:20241103T070000
END:STANDARD
END:VTIMEZONE
BEGIN:VEVENT
DTSTART;TZID=America/Chicago:20231226T190000
DTEND;TZID=America/Chicago:20231226T210000
DTSTAMP:20260425T100533
CREATED:20231224T204514Z
LAST-MODIFIED:20231226T125020Z
UID:7097-1703617200-1703624400@panafricanconnection.com
SUMMARY:Kwanzaa 2023
DESCRIPTION:  \n  \n 
URL:https://panafricanconnection.com/event/kwanzaa-2023/
LOCATION:Pan African Connection Bookstore\, 4466 SOUTH MARSALIS AVE\, DALLAS\, TX\, 75216\, United States
CATEGORIES:kwanzaa
ATTACH;FMTTYPE=image/jpeg:https://panafricanconnection.com/wp-content/uploads/410941425_18404434594045858_7278970028535770810_n.jpgkwanzaa.jpg
ORGANIZER;CN="Pan-African Connection Bookstore":MAILTO:panafric@airmail.net
END:VEVENT
BEGIN:VEVENT
DTSTART;TZID=America/Chicago:20231226T130000
DTEND;TZID=America/Chicago:20231226T190000
DTSTAMP:20260425T100533
CREATED:20231226T130331Z
LAST-MODIFIED:20231226T130331Z
UID:7102-1703595600-1703617200@panafricanconnection.com
SUMMARY:Day One of Kwanza Umoja (Unity)
DESCRIPTION:
URL:https://panafricanconnection.com/event/day-one-of-kwanza-umoja-unity/
LOCATION:Pan African Connection Bookstore\, 4466 SOUTH MARSALIS AVE\, DALLAS\, TX\, 75216\, United States
CATEGORIES:kwanzaa
ORGANIZER;CN="Pan-African Connection Bookstore":MAILTO:panafric@airmail.net
END:VEVENT
BEGIN:VEVENT
DTSTART;TZID=America/Chicago:20231217T130000
DTEND;TZID=America/Chicago:20231217T150000
DTSTAMP:20260425T100533
CREATED:20231216T133508Z
LAST-MODIFIED:20231216T133508Z
UID:7068-1702818000-1702825200@panafricanconnection.com
SUMMARY:Farmers and Growers Class
DESCRIPTION:
URL:https://panafricanconnection.com/event/farmers-and-growers-class/
LOCATION:Pan African Connection Bookstore\, 4466 SOUTH MARSALIS AVE\, DALLAS\, TX\, 75216\, United States
CATEGORIES:Farming
ORGANIZER;CN="Pan-African Connection Bookstore":MAILTO:panafric@airmail.net
END:VEVENT
BEGIN:VEVENT
DTSTART;TZID=America/Chicago:20231217T120000
DTEND;TZID=America/Chicago:20231217T170000
DTSTAMP:20260425T100533
CREATED:20231216T133806Z
LAST-MODIFIED:20231216T133806Z
UID:7070-1702814400-1702832400@panafricanconnection.com
SUMMARY:Ubuntu Market
DESCRIPTION:
URL:https://panafricanconnection.com/event/ubuntu-market/
LOCATION:Pan African Connection Bookstore\, 4466 SOUTH MARSALIS AVE\, DALLAS\, TX\, 75216\, United States
CATEGORIES:farmers Market
ORGANIZER;CN="Pan-African Connection Bookstore":MAILTO:panafric@airmail.net
END:VEVENT
BEGIN:VEVENT
DTSTART;TZID=America/Chicago:20231216T190000
DTEND;TZID=America/Chicago:20231216T210000
DTSTAMP:20260425T100533
CREATED:20231216T132741Z
LAST-MODIFIED:20231216T132741Z
UID:7062-1702753200-1702760400@panafricanconnection.com
SUMMARY:Healing Liberation and African Spirituality
DESCRIPTION:
URL:https://panafricanconnection.com/event/healing-liberation-and-african-spirituality/
LOCATION:Pan African Connection Bookstore\, 4466 SOUTH MARSALIS AVE\, DALLAS\, TX\, 75216\, United States
CATEGORIES:African Spirituality
ORGANIZER;CN="Pan-African Connection Bookstore":MAILTO:panafric@airmail.net
END:VEVENT
BEGIN:VEVENT
DTSTART;TZID=America/Chicago:20231216T170000
DTEND;TZID=America/Chicago:20231216T183000
DTSTAMP:20260425T100533
CREATED:20231216T132155Z
LAST-MODIFIED:20231216T132155Z
UID:7052-1702746000-1702751400@panafricanconnection.com
SUMMARY:An Anthology of Blackness\, Book Signing with Omari Souza
DESCRIPTION:
URL:https://panafricanconnection.com/event/an-anthology-of-blackness-book-signing-with-omari-souza/
LOCATION:Pan African Connection Bookstore\, 4466 SOUTH MARSALIS AVE\, DALLAS\, TX\, 75216\, United States
CATEGORIES:Book signing and Talk on predators
ORGANIZER;CN="Pan-African Connection Bookstore":MAILTO:panafric@airmail.net
END:VEVENT
BEGIN:VEVENT
DTSTART;TZID=America/Chicago:20231216T150000
DTEND;TZID=America/Chicago:20231216T163000
DTSTAMP:20260425T100533
CREATED:20231216T132503Z
LAST-MODIFIED:20231216T132503Z
UID:7060-1702738800-1702744200@panafricanconnection.com
SUMMARY:Book Signing Identity Matters; Bringing The Light into a New Day
DESCRIPTION:
URL:https://panafricanconnection.com/event/book-signing-identity-matters-bringing-the-light-into-a-new-day/
LOCATION:Pan African Connection Bookstore\, 4466 SOUTH MARSALIS AVE\, DALLAS\, TX\, 75216\, United States
CATEGORIES:Book signing and Talk on predators
ORGANIZER;CN="Pan-African Connection Bookstore":MAILTO:panafric@airmail.net
END:VEVENT
BEGIN:VEVENT
DTSTART;TZID=America/Chicago:20231216T110000
DTEND;TZID=America/Chicago:20231216T130000
DTSTAMP:20260425T100533
CREATED:20231216T133238Z
LAST-MODIFIED:20231216T133238Z
UID:7066-1702724400-1702731600@panafricanconnection.com
SUMMARY:Youth Self Defense Training
DESCRIPTION:
URL:https://panafricanconnection.com/event/youth-self-defense-training/
LOCATION:Pan African Connection Bookstore\, 4466 SOUTH MARSALIS AVE\, DALLAS\, TX\, 75216\, United States
ORGANIZER;CN="Pan-African Connection Bookstore":MAILTO:panafric@airmail.net
END:VEVENT
BEGIN:VEVENT
DTSTART;TZID=America/Chicago:20231216T110000
DTEND;TZID=America/Chicago:20231216T130000
DTSTAMP:20260425T100533
CREATED:20231216T133002Z
LAST-MODIFIED:20231216T133002Z
UID:7064-1702724400-1702731600@panafricanconnection.com
SUMMARY:Divine 9 Storytime
DESCRIPTION:
URL:https://panafricanconnection.com/event/divine-9-storytime/
LOCATION:Pan African Connection Bookstore\, 4466 SOUTH MARSALIS AVE\, DALLAS\, TX\, 75216\, United States
CATEGORIES:storytime
ORGANIZER;CN="Pan-African Connection Bookstore":MAILTO:panafric@airmail.net
END:VEVENT
BEGIN:VEVENT
DTSTART;TZID=America/Chicago:20231119T150000
DTEND;TZID=America/Chicago:20231119T170000
DTSTAMP:20260425T100533
CREATED:20231117T142658Z
LAST-MODIFIED:20231117T142658Z
UID:7046-1700406000-1700413200@panafricanconnection.com
SUMMARY:Book Signing with Revolutionary Ernest McMillan
DESCRIPTION:
URL:https://panafricanconnection.com/event/book-signing-with-revolutionary-ernest-mcmillan/
LOCATION:Pan African Connection Bookstore\, 4466 SOUTH MARSALIS AVE\, DALLAS\, TX\, 75216\, United States
CATEGORIES:Book signing and Talk on predators
ORGANIZER;CN="Pan-African Connection Bookstore":MAILTO:panafric@airmail.net
END:VEVENT
BEGIN:VEVENT
DTSTART;TZID=America/Chicago:20231119T130000
DTEND;TZID=America/Chicago:20231119T143000
DTSTAMP:20260425T100533
CREATED:20231117T142146Z
LAST-MODIFIED:20231117T142146Z
UID:7042-1700398800-1700404200@panafricanconnection.com
SUMMARY:Book Signing 'Pursuing Purpose In The Midst of It All'\, Marvastine Nichols
DESCRIPTION:
URL:https://panafricanconnection.com/event/book-signing-pursuing-purpose-in-the-midst-of-it-all-marvastine-nichols/
LOCATION:Pan African Connection Bookstore\, 4466 SOUTH MARSALIS AVE\, DALLAS\, TX\, 75216\, United States
CATEGORIES:Book signing and Talk on predators
ORGANIZER;CN="Pan-African Connection Bookstore":MAILTO:panafric@airmail.net
END:VEVENT
BEGIN:VEVENT
DTSTART;TZID=America/Chicago:20231119T120000
DTEND;TZID=America/Chicago:20231119T170000
DTSTAMP:20260425T100533
CREATED:20231117T142445Z
LAST-MODIFIED:20231117T142445Z
UID:7044-1700395200-1700413200@panafricanconnection.com
SUMMARY:Ubuntu Market Shop\, Supporting and Sustain Businesses' in our Community
DESCRIPTION:
URL:https://panafricanconnection.com/event/ubuntu-market-shop-supporting-and-sustain-businesses-in-our-community/
LOCATION:Pan African Connection Bookstore\, 4466 SOUTH MARSALIS AVE\, DALLAS\, TX\, 75216\, United States
ORGANIZER;CN="Pan-African Connection Bookstore":MAILTO:panafric@airmail.net
END:VEVENT
BEGIN:VEVENT
DTSTART;TZID=America/Chicago:20231118T150000
DTEND;TZID=America/Chicago:20231118T170000
DTSTAMP:20260425T100533
CREATED:20231117T141543Z
LAST-MODIFIED:20231117T141543Z
UID:7032-1700319600-1700326800@panafricanconnection.com
SUMMARY:Book Signing "Amazing Faith' by  Deborah Dennis
DESCRIPTION:
URL:https://panafricanconnection.com/event/book-signing-amazing-faith-by-deborah-dennis/
LOCATION:Pan African Connection Bookstore\, 4466 SOUTH MARSALIS AVE\, DALLAS\, TX\, 75216\, United States
CATEGORIES:Book signing and Talk on predators
ORGANIZER;CN="Pan-African Connection Bookstore":MAILTO:panafric@airmail.net
END:VEVENT
BEGIN:VEVENT
DTSTART;TZID=America/Chicago:20230924T150000
DTEND;TZID=America/Chicago:20230924T170000
DTSTAMP:20260425T100533
CREATED:20230921T160542Z
LAST-MODIFIED:20230921T160542Z
UID:6962-1695567600-1695574800@panafricanconnection.com
SUMMARY:Sunday African Drum Circle
DESCRIPTION:
URL:https://panafricanconnection.com/event/sunday-african-drum-circle/
LOCATION:Pan African Connection Bookstore\, 4466 SOUTH MARSALIS AVE\, DALLAS\, TX\, 75216\, United States
CATEGORIES:Drum Circle
ORGANIZER;CN="Pan-African Connection Bookstore":MAILTO:panafric@airmail.net
END:VEVENT
BEGIN:VEVENT
DTSTART;TZID=America/Chicago:20230923T130000
DTEND;TZID=America/Chicago:20230923T130000
DTSTAMP:20260425T100533
CREATED:20230921T161408Z
LAST-MODIFIED:20230923T152844Z
UID:6964-1695474000-1695474000@panafricanconnection.com
SUMMARY:Book Signing on Relationships and Intimacy
DESCRIPTION:Relationships and Intimacy
URL:https://panafricanconnection.com/event/book-signing-on-relationships-and-intimacy/
LOCATION:Pan African Connection Bookstore\, 4466 SOUTH MARSALIS AVE\, DALLAS\, TX\, 75216\, United States
CATEGORIES:Book Signing
ORGANIZER;CN="Pan-African Connection Bookstore":MAILTO:panafric@airmail.net
END:VEVENT
BEGIN:VEVENT
DTSTART;TZID=America/Chicago:20230923T110000
DTEND;TZID=America/Chicago:20230923T130000
DTSTAMP:20260425T100533
CREATED:20230921T155838Z
LAST-MODIFIED:20230921T155838Z
UID:6959-1695466800-1695474000@panafricanconnection.com
SUMMARY:Storytime with the Divine 9
DESCRIPTION:Divine 9 Storytime
URL:https://panafricanconnection.com/event/storytime-with-the-divine-9/
LOCATION:Pan African Connection Bookstore\, 4466 SOUTH MARSALIS AVE\, DALLAS\, TX\, 75216\, United States
CATEGORIES:storytime
ORGANIZER;CN="Pan-African Connection Bookstore":MAILTO:panafric@airmail.net
END:VEVENT
BEGIN:VEVENT
DTSTART;TZID=America/Chicago:20230921T190000
DTEND;TZID=America/Chicago:20230921T210000
DTSTAMP:20260425T100533
CREATED:20230921T161736Z
LAST-MODIFIED:20230921T161736Z
UID:6967-1695322800-1695330000@panafricanconnection.com
SUMMARY:Thursday Night Yoga 7 p.m.
DESCRIPTION:Yoga
URL:https://panafricanconnection.com/event/thursday-night-yoga-7-p-m/
LOCATION:Pan African Connection Bookstore\, 4466 SOUTH MARSALIS AVE\, DALLAS\, TX\, 75216\, United States
CATEGORIES:yoga
ORGANIZER;CN="Pan-African Connection Bookstore":MAILTO:panafric@airmail.net
END:VEVENT
BEGIN:VEVENT
DTSTART;TZID=America/Chicago:20230824T190000
DTEND;TZID=America/Chicago:20230824T210000
DTSTAMP:20260425T100533
CREATED:20230818T225542Z
LAST-MODIFIED:20230818T230012Z
UID:6933-1692903600-1692910800@panafricanconnection.com
SUMMARY:Book Signing CROWNED; is a joyous celebration of Black beauty\, determination\, and imagination
DESCRIPTION:Revisit beloved classics\, but with a twist\, such as The Little Mermaid\, Sleeping Beauty\, Hansel and Gretel\, Red Riding Hood\, The Poisoned Apple\, and find new favorites with stories created especially for the collection: Anansi and the Three Trials\, Aku the Sun Maker\, How the Zebra Got Its Stripes\, The Legend of Princess Yennenga\, and John Henry\, the Steel-Drivin’ Man.\nA gift that will keep giving\, CROWNED is a joyous celebration of Black beauty\, determination\, and imagination and a must-have for children and parents everywhere. \n“Once again CreativeSoul Photography captures the beauty\, innocence\, and magic of black children. This is the book I’ve been waiting to give my grandchildren. It is a wonder of storytelling and imagery.” — Michael Eric Dyson
URL:https://panafricanconnection.com/event/book-signing-crowned-is-a-joyous-celebration-of-black-beauty-determination-and-imagination/
LOCATION:TX
CATEGORIES:Book Signing,Book signing and Talk on predators
ATTACH;FMTTYPE=image/jpeg:https://panafricanconnection.com/wp-content/uploads/crowned-2.jpg
END:VEVENT
BEGIN:VEVENT
DTSTART;TZID=America/Chicago:20230820T120000
DTEND;TZID=America/Chicago:20230820T170000
DTSTAMP:20260425T100533
CREATED:20230819T001040Z
LAST-MODIFIED:20230819T001040Z
UID:6947-1692532800-1692550800@panafricanconnection.com
SUMMARY:Ubuntu Farmers Market
DESCRIPTION:
URL:https://panafricanconnection.com/event/ubuntu-farmers-market-4/
LOCATION:Pan African Connection Bookstore\, 4466 SOUTH MARSALIS AVE\, DALLAS\, TX\, 75216\, United States
CATEGORIES:farmers Market
ORGANIZER;CN="Pan-African Connection Bookstore":MAILTO:panafric@airmail.net
END:VEVENT
BEGIN:VEVENT
DTSTART;TZID=America/Chicago:20230820T120000
DTEND;TZID=America/Chicago:20230820T170000
DTSTAMP:20260425T100533
CREATED:20230818T234459Z
LAST-MODIFIED:20230818T234459Z
UID:6943-1692532800-1692550800@panafricanconnection.com
SUMMARY:Ubuntu Farmers Market
DESCRIPTION:
URL:https://panafricanconnection.com/event/ubuntu-farmers-market-3/
LOCATION:TX
CATEGORIES:farmers Market
END:VEVENT
BEGIN:VEVENT
DTSTART;TZID=America/Chicago:20230820T120000
DTEND;TZID=America/Chicago:20230820T170000
DTSTAMP:20260425T100533
CREATED:20230818T232614Z
LAST-MODIFIED:20230818T232614Z
UID:6940-1692532800-1692550800@panafricanconnection.com
SUMMARY:Marcus Garvey Tribute
DESCRIPTION:
URL:https://panafricanconnection.com/event/marcus-garvey-tribute/
LOCATION:Pan African Connection Bookstore\, 4466 SOUTH MARSALIS AVE\, DALLAS\, TX\, 75216\, United States
CATEGORIES:farmers Market
ORGANIZER;CN="Pan-African Connection Bookstore":MAILTO:panafric@airmail.net
END:VEVENT
BEGIN:VEVENT
DTSTART;TZID=America/Chicago:20230819T173000
DTEND;TZID=America/Chicago:20230819T193000
DTSTAMP:20260425T100533
CREATED:20230818T212647Z
LAST-MODIFIED:20230818T212647Z
UID:6930-1692466200-1692473400@panafricanconnection.com
SUMMARY:Book Signing with Ernest McMillan
DESCRIPTION:
URL:https://panafricanconnection.com/event/book-signing-with-ernest-mcmillan/
LOCATION:Pan African Connection Bookstore\, 4466 SOUTH MARSALIS AVE\, DALLAS\, TX\, 75216\, United States
CATEGORIES:Book Signing
ATTACH;FMTTYPE=image/jpeg:https://panafricanconnection.com/wp-content/uploads/ernest-1.jpg
ORGANIZER;CN="Pan-African Connection Bookstore":MAILTO:panafric@airmail.net
END:VEVENT
BEGIN:VEVENT
DTSTART;TZID=America/Chicago:20230819T150000
DTEND;TZID=America/Chicago:20230819T170000
DTSTAMP:20260425T100533
CREATED:20230818T225124Z
LAST-MODIFIED:20230819T000122Z
UID:6936-1692457200-1692464400@panafricanconnection.com
SUMMARY:Book Signing Meet Author Frenchaire Gardner
DESCRIPTION:
URL:https://panafricanconnection.com/event/book-signing-meet-author-frenchaire-gardner/
LOCATION:Pan African Connection Bookstore\, 4466 SOUTH MARSALIS AVE\, DALLAS\, TX\, 75216\, United States
CATEGORIES:Book Signing,Book signing and Talk on predators
ATTACH;FMTTYPE=image/jpeg:https://panafricanconnection.com/wp-content/uploads/french.jpg
ORGANIZER;CN="Pan-African Connection Bookstore":MAILTO:panafric@airmail.net
END:VEVENT
BEGIN:VEVENT
DTSTART;TZID=America/Chicago:20230806T120000
DTEND;TZID=America/Chicago:20230806T170000
DTSTAMP:20260425T100533
CREATED:20230728T113610Z
LAST-MODIFIED:20230728T123556Z
UID:6897-1691323200-1691341200@panafricanconnection.com
SUMMARY:Ubuntu Farmers Market
DESCRIPTION:
URL:https://panafricanconnection.com/event/ubuntu-farmers-market-2/
LOCATION:Pan African Connection Bookstore\, 4466 SOUTH MARSALIS AVE\, DALLAS\, TX\, 75216\, United States
CATEGORIES:Ubuntu Farmers Market
ORGANIZER;CN="Pan-African Connection Bookstore":MAILTO:panafric@airmail.net
END:VEVENT
BEGIN:VEVENT
DTSTART;TZID=America/Chicago:20230804T190000
DTEND;TZID=America/Chicago:20230804T210000
DTSTAMP:20260425T100533
CREATED:20230728T130640Z
LAST-MODIFIED:20230728T130640Z
UID:6910-1691175600-1691182800@panafricanconnection.com
SUMMARY:Open Mic; Poetry and Architecture
DESCRIPTION:
URL:https://panafricanconnection.com/event/open-mic-poetry-and-architecture/
LOCATION:Pan African Connection Bookstore\, 4466 SOUTH MARSALIS AVE\, DALLAS\, TX\, 75216\, United States
CATEGORIES:Open Mic Poetry,poetry
ORGANIZER;CN="Pan-African Connection Bookstore":MAILTO:panafric@airmail.net
END:VEVENT
BEGIN:VEVENT
DTSTART;TZID=America/Chicago:20230802T190000
DTEND;TZID=America/Chicago:20230802T210000
DTSTAMP:20260425T100533
CREATED:20230728T125940Z
LAST-MODIFIED:20230728T125940Z
UID:6908-1691002800-1691010000@panafricanconnection.com
SUMMARY:Poetry and Open Mic
DESCRIPTION:
URL:https://panafricanconnection.com/event/poetry-and-open-mic/
LOCATION:Pan African Connection Bookstore\, 4466 SOUTH MARSALIS AVE\, DALLAS\, TX\, 75216\, United States
CATEGORIES:Open Mic Poetry,poetry
ORGANIZER;CN="Pan-African Connection Bookstore":MAILTO:panafric@airmail.net
END:VEVENT
BEGIN:VEVENT
DTSTART;TZID=America/Chicago:20230730T130000
DTEND;TZID=America/Chicago:20230730T150000
DTSTAMP:20260425T100533
CREATED:20230708T155813Z
LAST-MODIFIED:20230722T145131Z
UID:6878-1690722000-1690729200@panafricanconnection.com
SUMMARY:Preview Film Screening\, Rhythms  of the Land A Love Story of Land and Family
DESCRIPTION:Black food and Black Land sovereignty \nA Love Story of Land & Family \n\nRhythms of the Land is a valentine to generations of Black farmers in the United States from the enslavement period to the present\, whose intense love of the land and dedication to community enabled them to survive against overwhelming odds. They struggled from the beginning without support or recognition\, and have been written out of the dominant narratives of US agriculture.
URL:https://panafricanconnection.com/event/6878/
LOCATION:Pan African Connection Bookstore\, 4466 SOUTH MARSALIS AVE\, DALLAS\, TX\, 75216\, United States
CATEGORIES:farmers Market,Farming,film,film screening
ORGANIZER;CN="Pan-African Connection Bookstore":MAILTO:panafric@airmail.net
END:VEVENT
BEGIN:VEVENT
DTSTART;TZID=America/Chicago:20230729T150000
DTEND;TZID=America/Chicago:20230729T170000
DTSTAMP:20260425T100533
CREATED:20230728T125514Z
LAST-MODIFIED:20230728T125514Z
UID:6900-1690642800-1690650000@panafricanconnection.com
SUMMARY:Growing Food\, Collective Work\, Culture and Land Guest Malik Yakini
DESCRIPTION:
URL:https://panafricanconnection.com/event/growing-food-collective-work-culture-and-land-guest-malik-yakini/
LOCATION:Pan African Connection Bookstore\, 4466 SOUTH MARSALIS AVE\, DALLAS\, TX\, 75216\, United States
CATEGORIES:farmers Market,Farming,Urban farming
ORGANIZER;CN="Pan-African Connection Bookstore":MAILTO:panafric@airmail.net
END:VEVENT
BEGIN:VEVENT
DTSTART;TZID=America/Chicago:20230729T130000
DTEND;TZID=America/Chicago:20230729T150000
DTSTAMP:20260425T100533
CREATED:20230728T144532Z
LAST-MODIFIED:20230728T144532Z
UID:6912-1690635600-1690642800@panafricanconnection.com
SUMMARY:Book Signing with Retired Educator Lincoln Butler\, 'My Journey'.
DESCRIPTION:
URL:https://panafricanconnection.com/event/book-signing-with-retired-educator-lincoln-butler-my-journey/
LOCATION:Pan African Connection Bookstore\, 4466 SOUTH MARSALIS AVE\, DALLAS\, TX\, 75216\, United States
CATEGORIES:Book Signing
ORGANIZER;CN="Pan-African Connection Bookstore":MAILTO:panafric@airmail.net
END:VEVENT
BEGIN:VEVENT
DTSTART;TZID=America/Chicago:20230729T110000
DTEND;TZID=America/Chicago:20230729T123000
DTSTAMP:20260425T100533
CREATED:20230728T145425Z
LAST-MODIFIED:20230728T145425Z
UID:6915-1690628400-1690633800@panafricanconnection.com
SUMMARY:First Time HomeBuyers Workshop Free
DESCRIPTION:
URL:https://panafricanconnection.com/event/first-time-homebuyers-workshop-free/
LOCATION:Pan African Connection Bookstore\, 4466 SOUTH MARSALIS AVE\, DALLAS\, TX\, 75216\, United States
CATEGORIES:home buyers class
ORGANIZER;CN="Pan-African Connection Bookstore":MAILTO:panafric@airmail.net
END:VEVENT
END:VCALENDAR