BEGIN:VCALENDAR
VERSION:2.0
PRODID:-//Pan-African Connection - ECPv6.15.20//NONSGML v1.0//EN
CALSCALE:GREGORIAN
METHOD:PUBLISH
X-WR-CALNAME:Pan-African Connection
X-ORIGINAL-URL:https://panafricanconnection.com
X-WR-CALDESC:Events for Pan-African Connection
REFRESH-INTERVAL;VALUE=DURATION:PT1H
X-Robots-Tag:noindex
X-PUBLISHED-TTL:PT1H
BEGIN:VTIMEZONE
TZID:America/Chicago
BEGIN:DAYLIGHT
TZOFFSETFROM:-0600
TZOFFSETTO:-0500
TZNAME:CDT
DTSTART:20240310T080000
END:DAYLIGHT
BEGIN:STANDARD
TZOFFSETFROM:-0500
TZOFFSETTO:-0600
TZNAME:CST
DTSTART:20241103T070000
END:STANDARD
BEGIN:DAYLIGHT
TZOFFSETFROM:-0600
TZOFFSETTO:-0500
TZNAME:CDT
DTSTART:20250309T080000
END:DAYLIGHT
BEGIN:STANDARD
TZOFFSETFROM:-0500
TZOFFSETTO:-0600
TZNAME:CST
DTSTART:20251102T070000
END:STANDARD
BEGIN:DAYLIGHT
TZOFFSETFROM:-0600
TZOFFSETTO:-0500
TZNAME:CDT
DTSTART:20260308T080000
END:DAYLIGHT
BEGIN:STANDARD
TZOFFSETFROM:-0500
TZOFFSETTO:-0600
TZNAME:CST
DTSTART:20261101T070000
END:STANDARD
END:VTIMEZONE
BEGIN:VEVENT
DTSTART;TZID=America/Chicago:20250615T130000
DTEND;TZID=America/Chicago:20250615T170000
DTSTAMP:20260423T190739
CREATED:20250612T150303Z
LAST-MODIFIED:20250612T150303Z
UID:8079-1749992400-1750006800@panafricanconnection.com
SUMMARY:Ubuntu Farmers Market Juneteenth Edition
DESCRIPTION:
URL:https://panafricanconnection.com/event/ubuntu-farmers-market-juneteenth-edition/
LOCATION:Pan African Connection Bookstore\, 4466 SOUTH MARSALIS AVE\, DALLAS\, TX\, 75216\, United States
CATEGORIES:farmers Market
ATTACH;FMTTYPE=image/jpeg:https://panafricanconnection.com/wp-content/uploads/506413116_699837902793479_3008778788128257201_njune-1.jpg
ORGANIZER;CN="Pan-African Connection Bookstore":MAILTO:panafric@airmail.net
END:VEVENT
BEGIN:VEVENT
DTSTART;TZID=America/Chicago:20250615T130000
DTEND;TZID=America/Chicago:20250615T150000
DTSTAMP:20260423T190739
CREATED:20250612T152437Z
LAST-MODIFIED:20250612T152437Z
UID:8096-1749992400-1749999600@panafricanconnection.com
SUMMARY:Book Signing Grandma's Secrets
DESCRIPTION:
URL:https://panafricanconnection.com/event/book-signing-grandmas-secrets/
LOCATION:Pan African Connection Bookstore\, 4466 SOUTH MARSALIS AVE\, DALLAS\, TX\, 75216\, United States
CATEGORIES:Book Signing
ATTACH;FMTTYPE=image/jpeg:https://panafricanconnection.com/wp-content/uploads/503431012_692474193529850_653016303763247388_n.jpg
ORGANIZER;CN="Pan-African Connection Bookstore":MAILTO:panafric@airmail.net
END:VEVENT
BEGIN:VEVENT
DTSTART;TZID=America/Chicago:20250614T170000
DTEND;TZID=America/Chicago:20250614T190000
DTSTAMP:20260423T190739
CREATED:20250612T150910Z
LAST-MODIFIED:20250612T150910Z
UID:8085-1749920400-1749927600@panafricanconnection.com
SUMMARY:DIY Book Making and Black Publishing Practices
DESCRIPTION:
URL:https://panafricanconnection.com/event/diy-book-making-and-black-publishing-practices/
LOCATION:Pan African Connection Bookstore\, 4466 SOUTH MARSALIS AVE\, DALLAS\, TX\, 75216\, United States
CATEGORIES:Book Signing
ATTACH;FMTTYPE=image/jpeg:https://panafricanconnection.com/wp-content/uploads/506612804_699898182787451_5018077130205928932_ndi.jpg
ORGANIZER;CN="Pan-African Connection Bookstore":MAILTO:panafric@airmail.net
END:VEVENT
BEGIN:VEVENT
DTSTART;TZID=America/Chicago:20250614T130000
DTEND;TZID=America/Chicago:20250614T160000
DTSTAMP:20260423T190740
CREATED:20250612T153746Z
LAST-MODIFIED:20250612T153746Z
UID:8100-1749906000-1749916800@panafricanconnection.com
SUMMARY:Basic Automotive Awareness
DESCRIPTION:
URL:https://panafricanconnection.com/event/basic-automotive-awareness/
LOCATION:Pan African Connection Bookstore\, 4466 SOUTH MARSALIS AVE\, DALLAS\, TX\, 75216\, United States
ORGANIZER;CN="Pan-African Connection Bookstore":MAILTO:panafric@airmail.net
END:VEVENT
BEGIN:VEVENT
DTSTART;TZID=America/Chicago:20250613T100000
DTEND;TZID=America/Chicago:20250613T120000
DTSTAMP:20260423T190740
CREATED:20250612T151730Z
LAST-MODIFIED:20250612T151730Z
UID:8090-1749808800-1749816000@panafricanconnection.com
SUMMARY:Ubuntu People's Farm Foraging Tour
DESCRIPTION:
URL:https://panafricanconnection.com/event/ubuntu-peoples-farm-foraging-tour/
LOCATION:Ubuntu Peoples Farm\, 3965 Rendon Rd\, Fort Worth\, TX\, 76140\, United States
CATEGORIES:ubuntu Peoples Farm,Urban farming
ATTACH;FMTTYPE=image/jpeg:https://panafricanconnection.com/wp-content/uploads/505522508_698047402972529_7489945990940076077_nforage.jpg
ORGANIZER;CN="Ubuntu Peoples Farm":MAILTO:akwete@icloud.com
END:VEVENT
BEGIN:VEVENT
DTSTART;TZID=America/Chicago:20250531T130000
DTEND;TZID=America/Chicago:20250531T150000
DTSTAMP:20260423T190740
CREATED:20250412T013907Z
LAST-MODIFIED:20250412T013907Z
UID:8022-1748696400-1748703600@panafricanconnection.com
SUMMARY:Lecture and Book Signing
DESCRIPTION:
URL:https://panafricanconnection.com/event/lecture-and-book-signing/
LOCATION:Pan African Connection Bookstore\, 4466 SOUTH MARSALIS AVE\, DALLAS\, TX\, 75216\, United States
ATTACH;FMTTYPE=image/jpeg:https://panafricanconnection.com/wp-content/uploads/484949349_10161117020991408_7323166313823206658_n-yeye.jpg
ORGANIZER;CN="Pan-African Connection Bookstore":MAILTO:panafric@airmail.net
END:VEVENT
BEGIN:VEVENT
DTSTART;TZID=America/Chicago:20250518T120000
DTEND;TZID=America/Chicago:20250518T170000
DTSTAMP:20260423T190740
CREATED:20250503T145749Z
LAST-MODIFIED:20250503T145749Z
UID:8046-1747569600-1747587600@panafricanconnection.com
SUMMARY:Malcolm X Festival\, 100th Birthday
DESCRIPTION:
URL:https://panafricanconnection.com/event/malcolm-x-festival-100th-birthday/
LOCATION:Pan African Connection Bookstore\, 4466 SOUTH MARSALIS AVE\, DALLAS\, TX\, 75216\, United States
CATEGORIES:Festival
ATTACH;FMTTYPE=image/jpeg:https://panafricanconnection.com/wp-content/uploads/491440546_18501220549045858_7423263444378071310_n.jpg
ORGANIZER;CN="Pan-African Connection Bookstore":MAILTO:panafric@airmail.net
END:VEVENT
BEGIN:VEVENT
DTSTART;TZID=America/Chicago:20250517T170000
DTEND;TZID=America/Chicago:20250517T190000
DTSTAMP:20260423T190740
CREATED:20250513T231117Z
LAST-MODIFIED:20250513T231117Z
UID:8049-1747501200-1747508400@panafricanconnection.com
SUMMARY:Don't Miss this Film Viewing of 'At The Pan-African Connection' A film by Tony Asoto
DESCRIPTION:Join us this Saturday May 17\, 5pm at the Angelica Theatre a viewing of film\, based on the cultural impact of the Pan-African Connection Bookstore.  Young filmmaker Tony Asota searches for information from the past\, present and future for answers regarding our forward march towards Unity and Liberation. \nhttps://www.eventbrite.com/…/at-the-pan-african… \nJoin us is honoring this film about the work of the Pan-African Connection Bookstore
URL:https://panafricanconnection.com/event/dont-miss-this-film-viewing-of-at-the-pan-african-connection-a-film-by-tony-asoto/
LOCATION:Angelica Theatre\, 321 E. Mockingbird Ln\, Dallas\, TX\, 75206\, United States
ATTACH;FMTTYPE=image/jpeg:https://panafricanconnection.com/wp-content/uploads/495338404_677511175026152_677588976024683135_n.jpg
ORGANIZER;CN="Pan-African Connection Bookstore":MAILTO:panafric@airmail.net
END:VEVENT
BEGIN:VEVENT
DTSTART;TZID=America/Chicago:20250517T140000
DTEND;TZID=America/Chicago:20250517T160000
DTSTAMP:20260423T190740
CREATED:20250513T231442Z
LAST-MODIFIED:20250513T231442Z
UID:8053-1747490400-1747497600@panafricanconnection.com
SUMMARY:Book Signing 'Recidivism' by Danesa 'Bella' White
DESCRIPTION:
URL:https://panafricanconnection.com/event/book-signing-recidivism-by-danesa-bella-white/
LOCATION:Pan African Connection Bookstore\, 4466 SOUTH MARSALIS AVE\, DALLAS\, TX\, 75216\, United States
CATEGORIES:Book Signing
ATTACH;FMTTYPE=image/jpeg:https://panafricanconnection.com/wp-content/uploads/496771359_678629424914327_3543015762819530531_n.jpg
ORGANIZER;CN="Pan-African Connection Bookstore":MAILTO:panafric@airmail.net
END:VEVENT
BEGIN:VEVENT
DTSTART;TZID=America/Chicago:20250504T130000
DTEND;TZID=America/Chicago:20250504T170000
DTSTAMP:20260423T190740
CREATED:20250503T145415Z
LAST-MODIFIED:20250503T145415Z
UID:8043-1746363600-1746378000@panafricanconnection.com
SUMMARY:Ubuntu Farmers Market
DESCRIPTION:
URL:https://panafricanconnection.com/event/ubuntu-farmers-market-7/
LOCATION:Pan African Connection Bookstore\, 4466 SOUTH MARSALIS AVE\, DALLAS\, TX\, 75216\, United States
CATEGORIES:Ubuntu Farmers Market
ATTACH;FMTTYPE=image/jpeg:https://panafricanconnection.com/wp-content/uploads/495187347_671543505622919_4886765326729384733_n.jpg
ORGANIZER;CN="Pan-African Connection Bookstore":MAILTO:panafric@airmail.net
END:VEVENT
BEGIN:VEVENT
DTSTART;TZID=America/Chicago:20250504T123000
DTEND;TZID=America/Chicago:20250504T153000
DTSTAMP:20260423T190740
CREATED:20250503T144756Z
LAST-MODIFIED:20250503T144756Z
UID:8037-1746361800-1746372600@panafricanconnection.com
SUMMARY:Book Signing with J. Rhodes\, "These Dreams Ain't Free"
DESCRIPTION:
URL:https://panafricanconnection.com/event/book-signing-with-j-rhodes-these-dreams-aint-free/
LOCATION:Pan African Connection Bookstore\, 4466 SOUTH MARSALIS AVE\, DALLAS\, TX\, 75216\, United States
CATEGORIES:Book Signing
ATTACH;FMTTYPE=image/jpeg:https://panafricanconnection.com/wp-content/uploads/494729896_671639105613359_7100197539640332440_n.jpg
ORGANIZER;CN="Pan-African Connection Bookstore":MAILTO:panafric@airmail.net
END:VEVENT
BEGIN:VEVENT
DTSTART;TZID=America/Chicago:20250503T150000
DTEND;TZID=America/Chicago:20250503T170000
DTSTAMP:20260423T190740
CREATED:20250503T144545Z
LAST-MODIFIED:20250503T144545Z
UID:8034-1746284400-1746291600@panafricanconnection.com
SUMMARY:Book signing with Terrence Southern\, Trust finding Faith within
DESCRIPTION:
URL:https://panafricanconnection.com/event/book-signing-with-terrence-southern-trust-finding-faith-within/
LOCATION:Pan African Connection Bookstore\, 4466 SOUTH MARSALIS AVE\, DALLAS\, TX\, 75216\, United States
ATTACH;FMTTYPE=image/jpeg:https://panafricanconnection.com/wp-content/uploads/495548058_671637865613483_7556830271423688803_n.jpg
ORGANIZER;CN="Pan-African Connection Bookstore":MAILTO:panafric@airmail.net
END:VEVENT
BEGIN:VEVENT
DTSTART;TZID=America/Chicago:20250503T133000
DTEND;TZID=America/Chicago:20250503T150000
DTSTAMP:20260423T190740
CREATED:20250503T145054Z
LAST-MODIFIED:20250503T145054Z
UID:8040-1746279000-1746284400@panafricanconnection.com
SUMMARY:Book Signing\, with Candice Jones\, You Know What Layla's NICU Journey
DESCRIPTION:
URL:https://panafricanconnection.com/event/book-signing-with-candice-jones-you-know-what-laylas-nicu-journey/
LOCATION:Pan African Connection Bookstore\, 4466 SOUTH MARSALIS AVE\, DALLAS\, TX\, 75216\, United States
CATEGORIES:Book Signing
ATTACH;FMTTYPE=image/jpeg:https://panafricanconnection.com/wp-content/uploads/495215768_18502052530045858_8209214625590101312_n-1.jpg
ORGANIZER;CN="Pan-African Connection Bookstore":MAILTO:panafric@airmail.net
END:VEVENT
BEGIN:VEVENT
DTSTART;TZID=America/Chicago:20250413T150000
DTEND;TZID=America/Chicago:20250413T170000
DTSTAMP:20260423T190740
CREATED:20250412T012738Z
LAST-MODIFIED:20250412T012738Z
UID:8015-1744556400-1744563600@panafricanconnection.com
SUMMARY:African Drum Circle
DESCRIPTION:
URL:https://panafricanconnection.com/event/african-drum-circle-2/
LOCATION:Pan African Connection Bookstore\, 4466 SOUTH MARSALIS AVE\, DALLAS\, TX\, 75216\, United States
ORGANIZER;CN="Pan-African Connection Bookstore":MAILTO:panafric@airmail.net
END:VEVENT
BEGIN:VEVENT
DTSTART;TZID=America/Chicago:20250413T130000
DTEND;TZID=America/Chicago:20250413T150000
DTSTAMP:20260423T190740
CREATED:20250412T012358Z
LAST-MODIFIED:20250412T012358Z
UID:8012-1744549200-1744556400@panafricanconnection.com
SUMMARY:Need Money For College?
DESCRIPTION:Need Money for College?
URL:https://panafricanconnection.com/event/need-money-for-college/
LOCATION:Pan African Connection Bookstore\, 4466 SOUTH MARSALIS AVE\, DALLAS\, TX\, 75216\, United States
CATEGORIES:collegefunding
ATTACH;FMTTYPE=image/jpeg:https://panafricanconnection.com/wp-content/uploads/490313792_655200163923920_4737873740982920388_nvollege.jpg
ORGANIZER;CN="Pan-African Connection Bookstore":MAILTO:panafric@airmail.net
END:VEVENT
BEGIN:VEVENT
DTSTART;TZID=America/Chicago:20250412T150000
DTEND;TZID=America/Chicago:20250412T170000
DTSTAMP:20260423T190740
CREATED:20250412T013046Z
LAST-MODIFIED:20250412T013046Z
UID:8018-1744470000-1744477200@panafricanconnection.com
SUMMARY:African Americans and Palestine
DESCRIPTION:
URL:https://panafricanconnection.com/event/african-americans-and-palestine/
LOCATION:Pan African Connection Bookstore\, 4466 SOUTH MARSALIS AVE\, DALLAS\, TX\, 75216\, United States
ATTACH;FMTTYPE=image/jpeg:https://panafricanconnection.com/wp-content/uploads/490200517_653343774109559_5139658241909597979_npal.jpg
ORGANIZER;CN="Pan-African Connection Bookstore":MAILTO:panafric@airmail.net
END:VEVENT
BEGIN:VEVENT
DTSTART;TZID=America/Chicago:20250412T120000
DTEND;TZID=America/Chicago:20250412T170000
DTSTAMP:20260423T190740
CREATED:20250412T013316Z
LAST-MODIFIED:20250412T013316Z
UID:8020-1744459200-1744477200@panafricanconnection.com
SUMMARY:Mark your calendar Malcolm X' 100th Birthday
DESCRIPTION:
URL:https://panafricanconnection.com/event/mark-your-calendar-malcolm-x-100th-birthday/
LOCATION:Pan African Connection Bookstore\, 4466 SOUTH MARSALIS AVE\, DALLAS\, TX\, 75216\, United States
ATTACH;FMTTYPE=image/jpeg:https://panafricanconnection.com/wp-content/uploads/489835199_682090061013837_6873528843482107391_n-malx.jpg
ORGANIZER;CN="Pan-African Connection Bookstore":MAILTO:panafric@airmail.net
END:VEVENT
BEGIN:VEVENT
DTSTART;TZID=America/Chicago:20250412T100000
DTEND;TZID=America/Chicago:20250412T130000
DTSTAMP:20260423T190740
CREATED:20250412T012006Z
LAST-MODIFIED:20250412T012006Z
UID:8003-1744452000-1744462800@panafricanconnection.com
SUMMARY:Ubuntu People's Farm Community Volunteer Day
DESCRIPTION: 
URL:https://panafricanconnection.com/event/ubuntu-peoples-farm-community-volunteer-day/
LOCATION:Pan African Connection Bookstore\, 4466 SOUTH MARSALIS AVE\, DALLAS\, TX\, 75216\, United States
CATEGORIES:Farming
ATTACH;FMTTYPE=image/jpeg:https://panafricanconnection.com/wp-content/uploads/490367990_654048154039121_4864075167573816943_n-1.jpg
ORGANIZER;CN="Pan-African Connection Bookstore":MAILTO:panafric@airmail.net
END:VEVENT
BEGIN:VEVENT
DTSTART;TZID=America/Chicago:20250322T180000
DTEND;TZID=America/Chicago:20250322T220000
DTSTAMP:20260423T190740
CREATED:20250314T130155Z
LAST-MODIFIED:20250314T130155Z
UID:7979-1742666400-1742680800@panafricanconnection.com
SUMMARY:Diaspora Mixer
DESCRIPTION:Connecting the African Diaspora \nRoots and Routes\, Uniting African People
URL:https://panafricanconnection.com/event/diaspora-mixer/
LOCATION:Pan African Connection Bookstore\, 4466 SOUTH MARSALIS AVE\, DALLAS\, TX\, 75216\, United States
ATTACH;FMTTYPE=image/jpeg:https://panafricanconnection.com/wp-content/uploads/484062145_631731422937461_8117638266546509537_ndiaspora.jpg
ORGANIZER;CN="Pan-African Connection Bookstore":MAILTO:panafric@airmail.net
END:VEVENT
BEGIN:VEVENT
DTSTART;TZID=America/Chicago:20250316T150000
DTEND;TZID=America/Chicago:20250316T170000
DTSTAMP:20260423T190740
CREATED:20250314T132759Z
LAST-MODIFIED:20250314T132759Z
UID:7982-1742137200-1742144400@panafricanconnection.com
SUMMARY:Sunday African Drum Circle
DESCRIPTION:African Drum Circle
URL:https://panafricanconnection.com/event/sunday-african-drum-circle-3/
LOCATION:Pan African Connection Bookstore\, 4466 SOUTH MARSALIS AVE\, DALLAS\, TX\, 75216\, United States
ATTACH;FMTTYPE=image/jpeg:https://panafricanconnection.com/wp-content/uploads/453046655_474040238706581_8377317451702508883_n.jpgdrum.jpg
ORGANIZER;CN="Pan-African Connection Bookstore":MAILTO:panafric@airmail.net
END:VEVENT
BEGIN:VEVENT
DTSTART;TZID=America/Chicago:20250316T133000
DTEND;TZID=America/Chicago:20250316T153000
DTSTAMP:20260423T190740
CREATED:20250314T123342Z
LAST-MODIFIED:20250314T123342Z
UID:7959-1742131800-1742139000@panafricanconnection.com
SUMMARY:Seed Swap and Seed Stories
DESCRIPTION:Community Seed Swap!\n\n\n\nThis Sunday\, March 16\, at 1:30 pm\, Bring your extra seeds and exchange them with your neighbors. Diversify your garden\, share seed stories and fellowship with other farmers and gardeners
URL:https://panafricanconnection.com/event/seed-swap-and-seed-stories/
LOCATION:Pan African Connection Bookstore\, 4466 SOUTH MARSALIS AVE\, DALLAS\, TX\, 75216\, United States
CATEGORIES:Farming
ATTACH;FMTTYPE=image/jpeg:https://panafricanconnection.com/wp-content/uploads/484032191_631864716257465_3506908101548485239_nseed.jpg
ORGANIZER;CN="Pan-African Connection Bookstore":MAILTO:panafric@airmail.net
END:VEVENT
BEGIN:VEVENT
DTSTART;TZID=America/Chicago:20250316T130000
DTEND;TZID=America/Chicago:20250316T170000
DTSTAMP:20260423T190740
CREATED:20250314T125735Z
LAST-MODIFIED:20250314T125735Z
UID:7977-1742130000-1742144400@panafricanconnection.com
SUMMARY:Ubuntu Farmers Market\, Support Businesses in your community
DESCRIPTION:Sunday Ubuntu Farmers Market\, Come out and Support small businesses. Arts and Crafts\, Health and Wellness\, Clothing\, Food and supporting local gardeners and Farmers in our community. \nSupport Ubuntu Farmers Market
URL:https://panafricanconnection.com/event/ubuntu-farmers-market-support-businesses-in-your-community/
LOCATION:Pan African Connection Bookstore\, 4466 SOUTH MARSALIS AVE\, DALLAS\, TX\, 75216\, United States
CATEGORIES:farmers Market,Farming,Gardening
ATTACH;FMTTYPE=image/jpeg:https://panafricanconnection.com/wp-content/uploads/484127766_631864759590794_5923401744918893003_nmarket.jpg
ORGANIZER;CN="Pan-African Connection Bookstore":MAILTO:panafric@airmail.net
END:VEVENT
BEGIN:VEVENT
DTSTART;TZID=America/Chicago:20250315T150000
DTEND;TZID=America/Chicago:20250315T170000
DTSTAMP:20260423T190740
CREATED:20250314T124438Z
LAST-MODIFIED:20250314T124438Z
UID:7970-1742050800-1742058000@panafricanconnection.com
SUMMARY:Sister Dr. Madiba (Sis. Lucy Houston)\, “Moving Forward Together\, and Inspiring Generations”
DESCRIPTION:Join us on Saturday for a special presentation by Sister Dr. Madiba (Sis. Lucy Houston)\, “Moving Forward Together\, and Inspiring Generations”. Pan African Connection Bookstore. \nInspiring Generations!
URL:https://panafricanconnection.com/event/sister-dr-madiba-sis-lucy-houston-moving-forward-together-and-inspiring-generations/
LOCATION:Pan African Connection Bookstore\, 4466 SOUTH MARSALIS AVE\, DALLAS\, TX\, 75216\, United States
CATEGORIES:women's History month
ATTACH;FMTTYPE=image/jpeg:https://panafricanconnection.com/wp-content/uploads/482012357_630639803046623_4863455173403261751_nlucy-1.jpg
ORGANIZER;CN="Pan-African Connection Bookstore":MAILTO:panafric@airmail.net
END:VEVENT
BEGIN:VEVENT
DTSTART;TZID=America/Chicago:20250315T100000
DTEND;TZID=America/Chicago:20250315T120000
DTSTAMP:20260423T190740
CREATED:20250314T125233Z
LAST-MODIFIED:20250314T125233Z
UID:7973-1742032800-1742040000@panafricanconnection.com
SUMMARY:Spring Break at the Farm
DESCRIPTION:‘Spring Camp Farm Day’ at Ubuntu People’s Farm and Fields Good Farm. Yoga\, Recycling\, farm chores\, raising backyard chickens\, Storytelling\, arts and crafts\, and take home strawberry Plant.\n\n\nFree and Open to Public. All Ages Welcome\, call 214-943-8262 for more info.\n\n\nhttps://www.eventbrite.com/…/spring-farm-camo-with…\n\n  \nUbuntu Peoples FarmSpring Brea on the Farm
URL:https://panafricanconnection.com/event/spring-break-at-the-farm/
LOCATION:Ubuntu Peoples Farm\, 3965 Rendon Rd\, Fort Worth\, TX\, 76140\, United States
CATEGORIES:Farming
ATTACH;FMTTYPE=image/jpeg:https://panafricanconnection.com/wp-content/uploads/483544547_17876964390273182_8929329666193541838_n-1farm-1.jpg
ORGANIZER;CN="Pan-African Connection Bookstore":MAILTO:panafric@airmail.net
END:VEVENT
BEGIN:VEVENT
DTSTART;TZID=America/Chicago:20250314T190000
DTEND;TZID=America/Chicago:20250314T210000
DTSTAMP:20260423T190740
CREATED:20250314T123940Z
LAST-MODIFIED:20250314T123940Z
UID:7967-1741978800-1741986000@panafricanconnection.com
SUMMARY:Spring Gardening Class
DESCRIPTION:  \nSuns out\, Gardens Out! \nThis Friday join us for an intro to gardening class at 7pm!
URL:https://panafricanconnection.com/event/spring-gardening-class/
LOCATION:Pan African Connection Bookstore\, 4466 SOUTH MARSALIS AVE\, DALLAS\, TX\, 75216\, United States
CATEGORIES:Farming
ATTACH;FMTTYPE=image/jpeg:https://panafricanconnection.com/wp-content/uploads/484281659_632796009497669_4373283301945090806_naman.jpg
ORGANIZER;CN="Pan-African Connection Bookstore":MAILTO:panafric@airmail.net
END:VEVENT
BEGIN:VEVENT
DTSTART;TZID=America/Chicago:20250302T130000
DTEND;TZID=America/Chicago:20250302T150000
DTSTAMP:20260423T190740
CREATED:20250222T043044Z
LAST-MODIFIED:20250222T043044Z
UID:7892-1740920400-1740927600@panafricanconnection.com
SUMMARY:No Name Book Club Discussion
DESCRIPTION:
URL:https://panafricanconnection.com/event/no-name-book-club-discussion/
LOCATION:Pan African Connection Bookstore\, 4466 SOUTH MARSALIS AVE\, DALLAS\, TX\, 75216\, United States
CATEGORIES:book Club
ATTACH;FMTTYPE=image/jpeg:https://panafricanconnection.com/wp-content/uploads/480981872_617959130981357_3891274608949989467_nbookclub.jpg
ORGANIZER;CN="Pan-African Connection Bookstore":MAILTO:panafric@airmail.net
END:VEVENT
BEGIN:VEVENT
DTSTART;TZID=America/Chicago:20250301T150000
DTEND;TZID=America/Chicago:20250301T170000
DTSTAMP:20260423T190740
CREATED:20250301T042721Z
LAST-MODIFIED:20250301T042721Z
UID:7934-1740841200-1740848400@panafricanconnection.com
SUMMARY:Book Signing New Book 'Almost Nothing'
DESCRIPTION:Saturday 3pm\, Book Signing of new book ‘Almost Nothing’. The author was born in the bowels of poverty and in an environment that offered no way out\, he managed to endure sexual molestation\, battle drug addiction\, and survive incarcerations to achieve a level of his wildest dreams.
URL:https://panafricanconnection.com/event/book-signing-new-book-almost-nothing/
LOCATION:Pan African Connection Bookstore\, 4466 SOUTH MARSALIS AVE\, DALLAS\, TX\, 75216\, United States
CATEGORIES:Book Signing
ATTACH;FMTTYPE=image/jpeg:https://panafricanconnection.com/wp-content/uploads/480962790_623177827126154_2759291931819523494_n.jpg
ORGANIZER;CN="Pan-African Connection Bookstore":MAILTO:panafric@airmail.net
END:VEVENT
BEGIN:VEVENT
DTSTART;TZID=America/Chicago:20250301T130000
DTEND;TZID=America/Chicago:20250301T150000
DTSTAMP:20260423T190740
CREATED:20250222T053514Z
LAST-MODIFIED:20250222T053514Z
UID:7905-1740834000-1740841200@panafricanconnection.com
SUMMARY:Healthy Lifestyle and Thriving
DESCRIPTION:
URL:https://panafricanconnection.com/event/healthy-lifestyle-and-thriving/
LOCATION:Pan African Connection Bookstore\, 4466 SOUTH MARSALIS AVE\, DALLAS\, TX\, 75216\, United States
CATEGORIES:health\
ATTACH;FMTTYPE=image/jpeg:https://panafricanconnection.com/wp-content/uploads/479352231_617981944312409_4518977331433952247_n.jpg
ORGANIZER;CN="Pan-African Connection Bookstore":MAILTO:panafric@airmail.net
END:VEVENT
BEGIN:VEVENT
DTSTART;TZID=America/Chicago:20250223T140000
DTEND;TZID=America/Chicago:20250223T160000
DTSTAMP:20260423T190740
CREATED:20250222T043944Z
LAST-MODIFIED:20250222T043944Z
UID:7901-1740319200-1740326400@panafricanconnection.com
SUMMARY:Dallas Author Meet and Greet
DESCRIPTION:
URL:https://panafricanconnection.com/event/dallas-author-meet-and-greet/
LOCATION:Pan African Connection Bookstore\, 4466 SOUTH MARSALIS AVE\, DALLAS\, TX\, 75216\, United States
CATEGORIES:Book Signing
ATTACH;FMTTYPE=image/jpeg:https://panafricanconnection.com/wp-content/uploads/481209709_18487604260045858_3842403841979224142_nsunday-book-signing.jpg
ORGANIZER;CN="Pan-African Connection Bookstore":MAILTO:panafric@airmail.net
END:VEVENT
BEGIN:VEVENT
DTSTART;TZID=America/Chicago:20250222T150000
DTEND;TZID=America/Chicago:20250222T170000
DTSTAMP:20260423T190740
CREATED:20250222T043705Z
LAST-MODIFIED:20250222T043705Z
UID:7898-1740236400-1740243600@panafricanconnection.com
SUMMARY:Black Farmers Film Screening
DESCRIPTION:
URL:https://panafricanconnection.com/event/black-farmers-film-screening/
LOCATION:Pan African Connection Bookstore\, 4466 SOUTH MARSALIS AVE\, DALLAS\, TX\, 75216\, United States
CATEGORIES:film screening
ATTACH;FMTTYPE=image/jpeg:https://panafricanconnection.com/wp-content/uploads/480447248_17874365814273182_3005838472578674093_ndarryl1.jpg
ORGANIZER;CN="Pan-African Connection Bookstore":MAILTO:panafric@airmail.net
END:VEVENT
END:VCALENDAR