BEGIN:VCALENDAR
VERSION:2.0
PRODID:-//Pan-African Connection - ECPv6.15.20//NONSGML v1.0//EN
CALSCALE:GREGORIAN
METHOD:PUBLISH
X-WR-CALNAME:Pan-African Connection
X-ORIGINAL-URL:https://panafricanconnection.com
X-WR-CALDESC:Events for Pan-African Connection
REFRESH-INTERVAL;VALUE=DURATION:PT1H
X-Robots-Tag:noindex
X-PUBLISHED-TTL:PT1H
BEGIN:VTIMEZONE
TZID:America/Chicago
BEGIN:DAYLIGHT
TZOFFSETFROM:-0600
TZOFFSETTO:-0500
TZNAME:CDT
DTSTART:20210314T080000
END:DAYLIGHT
BEGIN:STANDARD
TZOFFSETFROM:-0500
TZOFFSETTO:-0600
TZNAME:CST
DTSTART:20211107T070000
END:STANDARD
BEGIN:DAYLIGHT
TZOFFSETFROM:-0600
TZOFFSETTO:-0500
TZNAME:CDT
DTSTART:20220313T080000
END:DAYLIGHT
BEGIN:STANDARD
TZOFFSETFROM:-0500
TZOFFSETTO:-0600
TZNAME:CST
DTSTART:20221106T070000
END:STANDARD
BEGIN:DAYLIGHT
TZOFFSETFROM:-0600
TZOFFSETTO:-0500
TZNAME:CDT
DTSTART:20230312T080000
END:DAYLIGHT
BEGIN:STANDARD
TZOFFSETFROM:-0500
TZOFFSETTO:-0600
TZNAME:CST
DTSTART:20231105T070000
END:STANDARD
END:VTIMEZONE
BEGIN:VEVENT
DTSTART;TZID=America/Chicago:20220416T130000
DTEND;TZID=America/Chicago:20220416T150000
DTSTAMP:20260425T064144
CREATED:20220415T190213Z
LAST-MODIFIED:20220415T190827Z
UID:5824-1650114000-1650121200@panafricanconnection.com
SUMMARY:Help Your Child To Read Better
DESCRIPTION:What –and why — all Black parents need to know about helping their children with reading\n\n\n\nUsing proper methods to teach children how to read has been called “the civil rights issue of our time.” Too many schools are teaching reading incorrectly and Black and Hispanic children are being hurt by this at a much higher level than white or Asian children. In addition\, Black and Hispanic children’s reading achievement has been impacted much more by the pandemic. According to The Dallas Morning News\, reading scores fell almost twice as much for Black and Hispanic students as they did for white and Asian students on the most recent MAP tests.\n\n\nNow\, Black parents can do something about that. On Saturday\, April 16\, developmental psychologist Irene Daria\, Ph.D.\, author of Steps to Reading\, will give a presentation at Pan- African Connection on how parents can easily help their children learn to read so that no child ever again will need to be victim of a bad reading curriculum.\n\nYou will receive:\n\n\n• Step-by-step instructions on how to teach:\n\n\no Phonics\n\n\no The most frequently used sight words\n\n\n• Fun and engaging worksheets\n\n\n• Phonics Bingo and board games\n\n\n• Online activities\n\n\n• Guides to phonics stories the children can read.\n\n\n\nPan-African Connection\, 4466 S. Marsalis Ave.\, https://panafricanconnection.com\n\n\nSee these articles for information on how Black students have been hurt by their curriculums in their schools:\n\n\nHow reading instruction fails Black and Brown children (from Forbes and this was BEFORE the pandemic)\n\n\nhttps://www.forbes.com/…/how-reading-instruction…/…\n\n\nThe pandemic made things worse…\n\n\nDallas’s declining reading scores.\n\n\nBelow excerpt is from:\n\n\nhttps://www.dallasnews.com/…/americas-reading-problem…/
URL:https://panafricanconnection.com/event/help-your-child-to-read-better/
LOCATION:4466 S Marsalis Ave\, Dallas\, TX 75216\, USA\, 4466 S Marsalis Ave\, Dallas\, TX\, 75216\, United States
ATTACH;FMTTYPE=image/jpeg:https://panafricanconnection.com/wp-content/uploads/reading.jpg
ORGANIZER;CN="Pan-African Connection Bookstore":MAILTO:panafric@airmail.net
END:VEVENT
END:VCALENDAR