BEGIN:VCALENDAR
VERSION:2.0
PRODID:-//Pan-African Connection - ECPv6.15.20//NONSGML v1.0//EN
CALSCALE:GREGORIAN
METHOD:PUBLISH
X-WR-CALNAME:Pan-African Connection
X-ORIGINAL-URL:https://panafricanconnection.com
X-WR-CALDESC:Events for Pan-African Connection
REFRESH-INTERVAL;VALUE=DURATION:PT1H
X-Robots-Tag:noindex
X-PUBLISHED-TTL:PT1H
BEGIN:VTIMEZONE
TZID:America/Chicago
BEGIN:DAYLIGHT
TZOFFSETFROM:-0600
TZOFFSETTO:-0500
TZNAME:CDT
DTSTART:20210314T080000
END:DAYLIGHT
BEGIN:STANDARD
TZOFFSETFROM:-0500
TZOFFSETTO:-0600
TZNAME:CST
DTSTART:20211107T070000
END:STANDARD
BEGIN:DAYLIGHT
TZOFFSETFROM:-0600
TZOFFSETTO:-0500
TZNAME:CDT
DTSTART:20220313T080000
END:DAYLIGHT
BEGIN:STANDARD
TZOFFSETFROM:-0500
TZOFFSETTO:-0600
TZNAME:CST
DTSTART:20221106T070000
END:STANDARD
BEGIN:DAYLIGHT
TZOFFSETFROM:-0600
TZOFFSETTO:-0500
TZNAME:CDT
DTSTART:20230312T080000
END:DAYLIGHT
BEGIN:STANDARD
TZOFFSETFROM:-0500
TZOFFSETTO:-0600
TZNAME:CST
DTSTART:20231105T070000
END:STANDARD
BEGIN:DAYLIGHT
TZOFFSETFROM:-0600
TZOFFSETTO:-0500
TZNAME:CDT
DTSTART:20240310T080000
END:DAYLIGHT
BEGIN:STANDARD
TZOFFSETFROM:-0500
TZOFFSETTO:-0600
TZNAME:CST
DTSTART:20241103T070000
END:STANDARD
END:VTIMEZONE
BEGIN:VEVENT
DTSTART;TZID=America/Chicago:20230211T173000
DTEND;TZID=America/Chicago:20230211T190000
DTSTAMP:20260425T083216
CREATED:20230211T125615Z
LAST-MODIFIED:20230211T125615Z
UID:6483-1676136600-1676142000@panafricanconnection.com
SUMMARY:Viewing of Kwame Ture Speech on Lessons from the 60's
DESCRIPTION:Kwame Ture Speech
URL:https://panafricanconnection.com/event/viewing-of-kwame-ture-speech-on-lessons-from-the-60s/
LOCATION:Pan African Connection Bookstore\, 4466 SOUTH MARSALIS AVE\, DALLAS\, TX\, 75216\, United States
ATTACH;FMTTYPE=image/jpeg:https://panafricanconnection.com/wp-content/uploads/kwame-ture.jpg
ORGANIZER;CN="Pan-African Connection Bookstore":MAILTO:panafric@airmail.net
END:VEVENT
BEGIN:VEVENT
DTSTART;TZID=America/Chicago:20230211T150000
DTEND;TZID=America/Chicago:20230211T170000
DTSTAMP:20260425T083216
CREATED:20230211T124823Z
LAST-MODIFIED:20230211T124823Z
UID:6480-1676127600-1676134800@panafricanconnection.com
SUMMARY:Black Food and Resistance
DESCRIPTION:Black Communities Grown Food
URL:https://panafricanconnection.com/event/black-food-and-resistance/
LOCATION:Pan African Connection Bookstore\, 4466 SOUTH MARSALIS AVE\, DALLAS\, TX\, 75216\, United States
CATEGORIES:Urban farming
ATTACH;FMTTYPE=image/jpeg:https://panafricanconnection.com/wp-content/uploads/food-sov.jpg
ORGANIZER;CN="Pan-African Connection Bookstore":MAILTO:panafric@airmail.net
END:VEVENT
BEGIN:VEVENT
DTSTART;TZID=America/Chicago:20230211T130000
DTEND;TZID=America/Chicago:20230211T150000
DTSTAMP:20260425T083216
CREATED:20230211T130644Z
LAST-MODIFIED:20230211T130644Z
UID:6490-1676120400-1676127600@panafricanconnection.com
SUMMARY:Reel Talk with Queen
DESCRIPTION:Finding love in youself
URL:https://panafricanconnection.com/event/reel-talk-with-queen/
LOCATION:Pan African Connection Bookstore\, 4466 SOUTH MARSALIS AVE\, DALLAS\, TX\, 75216\, United States
CATEGORIES:Self Care
ORGANIZER;CN="Pan-African Connection Bookstore":MAILTO:panafric@airmail.net
END:VEVENT
BEGIN:VEVENT
DTSTART;TZID=America/Chicago:20230211T113000
DTEND;TZID=America/Chicago:20230211T123000
DTSTAMP:20260425T083216
CREATED:20230211T124029Z
LAST-MODIFIED:20230211T124218Z
UID:6475-1676115000-1676118600@panafricanconnection.com
SUMMARY:African American Read In Storytime
DESCRIPTION:African American Read In
URL:https://panafricanconnection.com/event/6475/
LOCATION:Pan African Connection Bookstore\, 4466 SOUTH MARSALIS AVE\, DALLAS\, TX\, 75216\, United States
ORGANIZER;CN="Pan-African Connection Bookstore":MAILTO:panafric@airmail.net
END:VEVENT
BEGIN:VEVENT
DTSTART;TZID=America/Chicago:20221211T130000
DTEND;TZID=America/Chicago:20221211T150000
DTSTAMP:20260425T083216
CREATED:20221210T034440Z
LAST-MODIFIED:20221210T034440Z
UID:6425-1670763600-1670770800@panafricanconnection.com
SUMMARY:Urban Growers Workshop
DESCRIPTION:
URL:https://panafricanconnection.com/event/urban-growers-workshop/
LOCATION:Pan African Connection Bookstore\, 4466 SOUTH MARSALIS AVE\, DALLAS\, TX\, 75216\, United States
CATEGORIES:health\,Urban farming
ORGANIZER;CN="Pan-African Connection Bookstore":MAILTO:panafric@airmail.net
END:VEVENT
BEGIN:VEVENT
DTSTART;TZID=America/Chicago:20221210T170000
DTEND;TZID=America/Chicago:20221210T190000
DTSTAMP:20260425T083216
CREATED:20221210T035402Z
LAST-MODIFIED:20221210T035402Z
UID:6429-1670691600-1670698800@panafricanconnection.com
SUMMARY:Book Signing and Discussion\, The life of a Black Chef
DESCRIPTION:Tom Kitty\, Kitchen Stories\, reveals common issues face by African American Chef’s. High expectations\, deadlines and demands\, that intrude on the daily lifestyles of these practitioners.
URL:https://panafricanconnection.com/event/book-signing-and-discussion-the-life-of-a-black-chef/
LOCATION:Pan African Connection Bookstore\, 4466 SOUTH MARSALIS AVE\, DALLAS\, TX\, 75216\, United States
CATEGORIES:Book Signing,health\
ATTACH;FMTTYPE=image/jpeg:https://panafricanconnection.com/wp-content/uploads/chef.jpg
ORGANIZER;CN="Pan-African Connection Bookstore":MAILTO:panafric@airmail.net
END:VEVENT
BEGIN:VEVENT
DTSTART;TZID=America/Chicago:20221210T150000
DTEND;TZID=America/Chicago:20221210T170000
DTSTAMP:20260425T083216
CREATED:20221210T031737Z
LAST-MODIFIED:20221210T034052Z
UID:6416-1670684400-1670691600@panafricanconnection.com
SUMMARY:Discussion on Black Food Sovereignty with Malik Yakini
DESCRIPTION:Discussion on Black Food Sovereignty \nSaturday at 3pm – Discussion on Black Food Sovereignty. We encourage all gardeners\, urban farmers\, food growers to attend\, to strategize and consolidate our network to intensify the food narrative in the our the DFW BLACk/African community. (In person at the African Connection Bookstore.)
URL:https://panafricanconnection.com/event/6416/
LOCATION:Pan African Connection Bookstore\, 4466 SOUTH MARSALIS AVE\, DALLAS\, TX\, 75216\, United States
CATEGORIES:Urban farming
ATTACH;FMTTYPE=image/jpeg:https://panafricanconnection.com/wp-content/uploads/malik.jpg
ORGANIZER;CN="Pan-African Connection Bookstore":MAILTO:panafric@airmail.net
END:VEVENT
BEGIN:VEVENT
DTSTART;TZID=America/Chicago:20221210T130000
DTEND;TZID=America/Chicago:20221210T150000
DTSTAMP:20260425T083216
CREATED:20221210T034923Z
LAST-MODIFIED:20221210T034923Z
UID:6427-1670677200-1670684400@panafricanconnection.com
SUMMARY:Book Signing Determined to Change\, by Brother Winford X
DESCRIPTION:Winford X is an aspiring and upcoming author\, and this book is his first debut. Winford’s life changed at the young age of 19 when he was incarcerated for 15 years. Winford is a proud member of the Nation of Islam. This book\, “Determined to Change” demonstrates his gratitude to Allah for the journey he has begun.
URL:https://panafricanconnection.com/event/book-signing-determined-to-change-by-brother-winford-x/
LOCATION:Pan African Connection Bookstore\, 4466 SOUTH MARSALIS AVE\, DALLAS\, TX\, 75216\, United States
CATEGORIES:Book signing and Talk on predators
ATTACH;FMTTYPE=image/jpeg:https://panafricanconnection.com/wp-content/uploads/x.jpg
ORGANIZER;CN="Pan-African Connection Bookstore":MAILTO:panafric@airmail.net
END:VEVENT
BEGIN:VEVENT
DTSTART;TZID=America/Chicago:20221015T160000
DTEND;TZID=America/Chicago:20221015T180000
DTSTAMP:20260425T083216
CREATED:20220924T012704Z
LAST-MODIFIED:20220924T012704Z
UID:6302-1665849600-1665856800@panafricanconnection.com
SUMMARY:Book Signing Food Insecurity
DESCRIPTION:
URL:https://panafricanconnection.com/event/book-signing-food-insecurity/
LOCATION:4466 S Marsalis Ave\, Dallas\, TX 75216\, USA\, 4466 S Marsalis Ave\, Dallas\, TX\, 75216\, United States
CATEGORIES:Book signing and Talk on predators
ATTACH;FMTTYPE=image/jpeg:https://panafricanconnection.com/wp-content/uploads/dr-yvette.jpg
ORGANIZER;CN="Pan-African Connection Bookstore":MAILTO:panafric@airmail.net
END:VEVENT
BEGIN:VEVENT
DTSTART;TZID=America/Chicago:20221010T190000
DTEND;TZID=America/Chicago:20221010T210000
DTSTAMP:20260425T083216
CREATED:20220924T010818Z
LAST-MODIFIED:20220924T012849Z
UID:6289-1665428400-1665435600@panafricanconnection.com
SUMMARY:Black Hollywood Book Tour
DESCRIPTION:“Carell Augustus is a genius.” ―Karamo Brown \nA visionary photography book that brings together the best of classic Hollywood with today’s iconic Black entertainers for an immersive experience unlike anything you’ve ever seen before. \nFeatures a foreword by Academy Award winner Forest Whitaker and an afterword by beloved entertainer Niecy Nash! \nBlack Hollywood is a groundbreaking reimagining of Hollywood’s most beloved films\, including Breakfast at Tiffany’s\, Singin’ in the Rain\, Mission: Impossible\, Forrest Gump\, and more. Visionary photographer Carell Augustus has created a “who’s who” of today’s Black entertainers recreating iconic cinematic scenes\, renewing readers’ appreciation of the past while asking questions about representation in media and inspiring the artists of the future. \nCompiled over the course of more than ten years and highlighting more than sixty-five stars such as Vanessa L. Williams\, Dulé Hill\, Karamo Brown\, Shermar Moore\, and others\, Carell Augustus says\, “Black Hollywood is not just a book for Black people―it’s a book for all people about Black people. About the dreams we were never told we could achieve. About the places we were never told we could go. And now\, finally\, about how we can get there.”
URL:https://panafricanconnection.com/event/black-hollywood-book-tour/
LOCATION:Pan African Connection Bookstore\, 4466 SOUTH MARSALIS AVE\, DALLAS\, TX\, 75216\, United States
CATEGORIES:Art,Book Signing,Book Tour,Celebrity,photography
ATTACH;FMTTYPE=image/jpeg:https://panafricanconnection.com/wp-content/uploads/photog.jpg
ORGANIZER;CN="Pan-African Connection Bookstore":MAILTO:panafric@airmail.net
END:VEVENT
BEGIN:VEVENT
DTSTART;TZID=America/Chicago:20221001T160000
DTEND;TZID=America/Chicago:20221001T180000
DTSTAMP:20260425T083216
CREATED:20220930T222905Z
LAST-MODIFIED:20220930T222905Z
UID:6311-1664640000-1664647200@panafricanconnection.com
SUMMARY:Discussion on Movie 'Woman is King'
DESCRIPTION:Women is King
URL:https://panafricanconnection.com/event/discussion-on-movie-woman-is-king/
LOCATION:4466 S Marsalis Ave\, Dallas\, TX 75216\, USA\, 4466 S Marsalis Ave\, Dallas\, TX\, 75216\, United States
CATEGORIES:Discussion
ATTACH;FMTTYPE=image/jpeg:https://panafricanconnection.com/wp-content/uploads/woman-king.jpg
ORGANIZER;CN="Pan-African Connection Bookstore":MAILTO:panafric@airmail.net
END:VEVENT
BEGIN:VEVENT
DTSTART;TZID=America/Chicago:20221001T140000
DTEND;TZID=America/Chicago:20221001T150000
DTSTAMP:20260425T083216
CREATED:20220930T224401Z
LAST-MODIFIED:20220930T224549Z
UID:6318-1664632800-1664636400@panafricanconnection.com
SUMMARY:Play the Child Who Loved to Read
DESCRIPTION:Play for Children
URL:https://panafricanconnection.com/event/play-the-child-who-loved-to-read/
LOCATION:4466 S Marsalis Ave\, Dallas\, TX 75216\, USA\, 4466 S Marsalis Ave\, Dallas\, TX\, 75216\, United States
CATEGORIES:Children's arts and crafts
ATTACH;FMTTYPE=image/jpeg:https://panafricanconnection.com/wp-content/uploads/read.jpg
ORGANIZER;CN="Pan-African Connection Bookstore":MAILTO:panafric@airmail.net
END:VEVENT
BEGIN:VEVENT
DTSTART;TZID=America/Chicago:20221001T123000
DTEND;TZID=America/Chicago:20221001T140000
DTSTAMP:20260425T083216
CREATED:20220930T224010Z
LAST-MODIFIED:20220930T224010Z
UID:6316-1664627400-1664632800@panafricanconnection.com
SUMMARY:Acting with Masks
DESCRIPTION:Acting and Masking Folk Mask
URL:https://panafricanconnection.com/event/acting-with-masks/
LOCATION:4466 S Marsalis Ave\, Dallas\, TX 75216\, USA\, 4466 S Marsalis Ave\, Dallas\, TX\, 75216\, United States
CATEGORIES:Children's arts and crafts
ATTACH;FMTTYPE=image/jpeg:https://panafricanconnection.com/wp-content/uploads/mask-making.jpg
ORGANIZER;CN="Pan-African Connection Bookstore":MAILTO:panafric@airmail.net
END:VEVENT
BEGIN:VEVENT
DTSTART;TZID=America/Chicago:20220929T190000
DTEND;TZID=America/Chicago:20220929T200000
DTSTAMP:20260425T083216
CREATED:20220924T005127Z
LAST-MODIFIED:20220924T005207Z
UID:6286-1664478000-1664481600@panafricanconnection.com
SUMMARY:Thursday Night Yoga
DESCRIPTION:  \nYoga
URL:https://panafricanconnection.com/event/thursday-night-yoga/
LOCATION:Pan African Connection Bookstore\, 4466 SOUTH MARSALIS AVE\, DALLAS\, TX\, 75216\, United States
CATEGORIES:health\,yoga
ATTACH;FMTTYPE=image/jpeg:https://panafricanconnection.com/wp-content/uploads/yoga2.jpg
END:VEVENT
BEGIN:VEVENT
DTSTART;TZID=America/Chicago:20220925T150000
DTEND;TZID=America/Chicago:20220925T170000
DTSTAMP:20260425T083216
CREATED:20220924T013258Z
LAST-MODIFIED:20220924T013258Z
UID:6305-1664118000-1664125200@panafricanconnection.com
SUMMARY:Sunday Drum Circle
DESCRIPTION:
URL:https://panafricanconnection.com/event/sunday-drum-circle/
LOCATION:4466 S Marsalis Ave\, Dallas\, TX 75216\, USA\, 4466 S Marsalis Ave\, Dallas\, TX\, 75216\, United States
CATEGORIES:Drum Circle
ATTACH;FMTTYPE=image/jpeg:https://panafricanconnection.com/wp-content/uploads/drum-cricel-2.jpg
ORGANIZER;CN="Pan-African Connection Bookstore":MAILTO:panafric@airmail.net
END:VEVENT
BEGIN:VEVENT
DTSTART;TZID=America/Chicago:20220924T150000
DTEND;TZID=America/Chicago:20220924T170000
DTSTAMP:20260425T083216
CREATED:20220924T012036Z
LAST-MODIFIED:20220924T012036Z
UID:6296-1664031600-1664038800@panafricanconnection.com
SUMMARY:Book Signing Black Massacres
DESCRIPTION:
URL:https://panafricanconnection.com/event/book-signing-black-massacres/
LOCATION:4466 S Marsalis Ave\, Dallas\, TX 75216\, USA\, 4466 S Marsalis Ave\, Dallas\, TX\, 75216\, United States
CATEGORIES:Book signing and Talk on predators
ATTACH;FMTTYPE=image/jpeg:https://panafricanconnection.com/wp-content/uploads/mayem.jpg
ORGANIZER;CN="Pan-African Connection Bookstore":MAILTO:panafric@airmail.net
END:VEVENT
BEGIN:VEVENT
DTSTART;TZID=America/Chicago:20220924T130000
DTEND;TZID=America/Chicago:20220924T150000
DTSTAMP:20260425T083216
CREATED:20220924T011817Z
LAST-MODIFIED:20220924T011817Z
UID:6293-1664024400-1664031600@panafricanconnection.com
SUMMARY:Book Signing Mother Daughter Sight Seeing With Sandy
DESCRIPTION:
URL:https://panafricanconnection.com/event/book-signing-mother-daughter-sight-seeing-with-sandy/
LOCATION:4466 S Marsalis Ave\, Dallas\, TX 75216\, USA\, 4466 S Marsalis Ave\, Dallas\, TX\, 75216\, United States
CATEGORIES:Book Signing,Book signing and Talk on predators,children's Book
ATTACH;FMTTYPE=image/jpeg:https://panafricanconnection.com/wp-content/uploads/book.jpg
ORGANIZER;CN="Pan-African Connection Bookstore":MAILTO:panafric@airmail.net
END:VEVENT
BEGIN:VEVENT
DTSTART;TZID=America/Chicago:20220923T080000
DTEND;TZID=America/Chicago:20220923T170000
DTSTAMP:20260425T083216
CREATED:20220924T012302Z
LAST-MODIFIED:20220924T012302Z
UID:6299-1663920000-1663952400@panafricanconnection.com
SUMMARY:Film Viewing and Discussion 'South of the Border'.
DESCRIPTION:
URL:https://panafricanconnection.com/event/film-viewing-and-discussion-south-of-the-border/
LOCATION:TX
CATEGORIES:film
ATTACH;FMTTYPE=image/jpeg:https://panafricanconnection.com/wp-content/uploads/border.jpg
END:VEVENT
BEGIN:VEVENT
DTSTART;TZID=America/Chicago:20220827T160000
DTEND;TZID=America/Chicago:20220827T190000
DTSTAMP:20260425T083216
CREATED:20220826T223854Z
LAST-MODIFIED:20220826T223955Z
UID:6131-1661616000-1661626800@panafricanconnection.com
SUMMARY:'Dope is Death' Film Screening and Discussion
DESCRIPTION:This documentary tells the story of how Dr. Mutulu Shakur\, stepfather of Tupac Shakur\, along with fellow Black Panthers and the Young Lords\, combined community health with radical politics to create the first acupuncture detoxification program in America in 1973 – a visionary project eventually deemed too dangerous to exist.\n\n\nWe will have a discussion session after the film.\n\nBlack August Commemoration \n\n\n\nLearn more about Mutulu Shakur at mutulushakur.com\, and please sign the petition for his parole and compassionate release here: https://campaigns.organizefor.org/…/support-parole-and…
URL:https://panafricanconnection.com/event/dope-is-death-film-screening-and-discussion/
LOCATION:Pan African Connection Bookstore\, 4466 SOUTH MARSALIS AVE\, DALLAS\, TX\, 75216\, United States
CATEGORIES:Black August Commemoration,Political Prisioners
ATTACH;FMTTYPE=image/jpeg:https://panafricanconnection.com/wp-content/uploads/dope.jpg
ORGANIZER;CN="Pan-African Connection Bookstore":MAILTO:panafric@airmail.net
END:VEVENT
BEGIN:VEVENT
DTSTART;TZID=America/Chicago:20220827T140000
DTEND;TZID=America/Chicago:20220827T153000
DTSTAMP:20260425T083216
CREATED:20220826T224745Z
LAST-MODIFIED:20220826T224745Z
UID:6135-1661608800-1661614200@panafricanconnection.com
SUMMARY:Book Discussion and Signing'Black Family's Guide to College Admissions
DESCRIPTION:College Admissions
URL:https://panafricanconnection.com/event/book-discussion-and-signingblack-familys-guide-to-college-admissions/
LOCATION:Pan African Connection Bookstore\, 4466 SOUTH MARSALIS AVE\, DALLAS\, TX\, 75216\, United States
CATEGORIES:college
ATTACH;FMTTYPE=image/jpeg:https://panafricanconnection.com/wp-content/uploads/college.jpg
ORGANIZER;CN="Pan-African Connection Bookstore":MAILTO:panafric@airmail.net
END:VEVENT
BEGIN:VEVENT
DTSTART;TZID=America/Chicago:20220709T150000
DTEND;TZID=America/Chicago:20220709T170000
DTSTAMP:20260425T083216
CREATED:20220709T034027Z
LAST-MODIFIED:20220709T034027Z
UID:6063-1657378800-1657386000@panafricanconnection.com
SUMMARY:Urban Farming Workshop
DESCRIPTION:
URL:https://panafricanconnection.com/event/urban-farming-workshop/
LOCATION:Pan African Connection Bookstore\, 4466 SOUTH MARSALIS AVE\, DALLAS\, TX\, 75216\, United States
CATEGORIES:Urban farming
ATTACH;FMTTYPE=image/jpeg:https://panafricanconnection.com/wp-content/uploads/farm.jpg
END:VEVENT
BEGIN:VEVENT
DTSTART;TZID=America/Chicago:20220709T130000
DTEND;TZID=America/Chicago:20220709T150000
DTSTAMP:20260425T083217
CREATED:20220709T034844Z
LAST-MODIFIED:20220709T034844Z
UID:6066-1657371600-1657378800@panafricanconnection.com
SUMMARY:Book Signing with Keynu Scott\, The Indomitable Queen
DESCRIPTION:
URL:https://panafricanconnection.com/event/book-signing-with-keynu-scott-the-indomitable-queen/
LOCATION:Pan African Connection Bookstore\, 4466 SOUTH MARSALIS AVE\, DALLAS\, TX\, 75216\, United States
CATEGORIES:Book Signing
ATTACH;FMTTYPE=image/jpeg:https://panafricanconnection.com/wp-content/uploads/books.jpg
END:VEVENT
BEGIN:VEVENT
DTSTART;TZID=America/Chicago:20220625T173000
DTEND;TZID=America/Chicago:20220625T190000
DTSTAMP:20260425T083217
CREATED:20220625T022024Z
LAST-MODIFIED:20220625T022024Z
UID:6009-1656178200-1656183600@panafricanconnection.com
SUMMARY:Solar Energy Jobs Training Info Session
DESCRIPTION:
URL:https://panafricanconnection.com/event/solar-energy-jobs-training-info-session/
LOCATION:Pan African Connection Bookstore\, 4466 SOUTH MARSALIS AVE\, DALLAS\, TX\, 75216\, United States
CATEGORIES:jobs
ATTACH;FMTTYPE=image/jpeg:https://panafricanconnection.com/wp-content/uploads/solar.jpg
END:VEVENT
BEGIN:VEVENT
DTSTART;TZID=America/Chicago:20220625T150000
DTEND;TZID=America/Chicago:20220625T170000
DTSTAMP:20260425T083217
CREATED:20220625T025714Z
LAST-MODIFIED:20220625T025714Z
UID:6015-1656169200-1656176400@panafricanconnection.com
SUMMARY:Book Signing and Discussion with Urban Agriculture Legend K. Rashid Nuri
DESCRIPTION:Growing Outloud; Journey of a Food Revolutionary
URL:https://panafricanconnection.com/event/book-signing-and-discussion-with-urban-agriculture-legend-k-rashid-nuri/
LOCATION:Pan African Connection Bookstore\, 4466 SOUTH MARSALIS AVE\, DALLAS\, TX\, 75216\, United States
CATEGORIES:Urban farming
ATTACH;FMTTYPE=image/jpeg:https://panafricanconnection.com/wp-content/uploads/rashid.jpg
END:VEVENT
BEGIN:VEVENT
DTSTART;TZID=America/Chicago:20220625T130000
DTEND;TZID=America/Chicago:20220625T143000
DTSTAMP:20260425T083217
CREATED:20220625T024104Z
LAST-MODIFIED:20220625T024224Z
UID:6012-1656162000-1656167400@panafricanconnection.com
SUMMARY:Broken trust and Preying on Women\, Book Signing with Renee Phillips
DESCRIPTION:  \n“Either leave the church\, make like this never happened\, or I will treat you like the others.” These were the words uttered to me by a very prominent and respected high school teacher and pastor of one of the largest churches in Dallas\, Texas. Beginning in my 10th-grade year of high school and continuing for seven years\, I was groomed\, sexually assaulted and became the victim of manipulative\, predatory behavior by someone I trusted. I was young and gravely deceived.The year 2018 was monumental for me. I was both spiritually awakened and haunted by the ringing in my ears and the heaviness of my heart from watching the #MeToo movement play out in the media. Years of suppressing my story became unsettling to me as story after story resonated with my own personal story. Activist Tarana Burke’s unwavering dedication to giving secret stories a voice propelled me to share my own. This is my story. As you read my memoir\, I invite you to walk with me as I recount the devastating events that disrupted the course of my life and nearly ended it. This is my personal and true story of “Small Giants Who Act And Prey.”
URL:https://panafricanconnection.com/event/broken-trust-and-preying-on-women-book-signing-with-renee-phillips/
LOCATION:Pan African Connection Bookstore\, 4466 SOUTH MARSALIS AVE\, DALLAS\, TX\, 75216\, United States
CATEGORIES:Book signing and Talk on predators
ATTACH;FMTTYPE=image/jpeg:https://panafricanconnection.com/wp-content/uploads/book-signing.jpg
END:VEVENT
BEGIN:VEVENT
DTSTART;TZID=America/Chicago:20220611T130000
DTEND;TZID=America/Chicago:20220611T150000
DTSTAMP:20260425T083217
CREATED:20220610T222729Z
LAST-MODIFIED:20220610T222730Z
UID:5963-1654952400-1654959600@panafricanconnection.com
SUMMARY:Grant Research and Writing Workshop
DESCRIPTION:Come join us at @pac_dallas as we share information on the proper grants you should be applying for to help your business! \nLearn how to:\n•Research grants \nLearn to Research and Write Grants \n•Understand what funders are looking for\n•Compose an award winning proposal \nRsvp by emailing your name to info@kd3enterprises.com
URL:https://panafricanconnection.com/event/grant-research-and-writing-workshop/
LOCATION:Pan African Connection Bookstore\, 4466 SOUTH MARSALIS AVE\, DALLAS\, TX\, 75216\, United States
CATEGORIES:Grant Writing Class
ATTACH;FMTTYPE=image/jpeg:https://panafricanconnection.com/wp-content/uploads/grant.jpg
ORGANIZER;CN="Pan-African Connection Bookstore":MAILTO:panafric@airmail.net
END:VEVENT
BEGIN:VEVENT
DTSTART;TZID=America/Chicago:20220527T190000
DTEND;TZID=America/Chicago:20220527T210000
DTSTAMP:20260425T083217
CREATED:20220527T193222Z
LAST-MODIFIED:20220530T192318Z
UID:5921-1653678000-1653685200@panafricanconnection.com
SUMMARY:African Liberation Day 2022
DESCRIPTION:
URL:https://panafricanconnection.com/event/5921/
LOCATION:Pan African Connection Bookstore\, 4466 SOUTH MARSALIS AVE\, DALLAS\, TX\, 75216\, United States
CATEGORIES:African Liberation Day
ATTACH;FMTTYPE=image/jpeg:https://panafricanconnection.com/wp-content/uploads/als.jpg
ORGANIZER;CN="Pan-African Connection Bookstore":MAILTO:panafric@airmail.net
END:VEVENT
BEGIN:VEVENT
DTSTART;TZID=America/Chicago:20220521T110000
DTEND;TZID=America/Chicago:20220521T190000
DTSTAMP:20260425T083217
CREATED:20220415T191131Z
LAST-MODIFIED:20220415T191155Z
UID:5834-1653130800-1653159600@panafricanconnection.com
SUMMARY:Malcolm X Festival 2022
DESCRIPTION:Join us as we celebrate the life of Human Rights Activist\, and Freedom Fighter Malcolm X.\n\n\n2022 Theme: “We Are Our Own Liberators”\n\n\n \n\n\nThe Malcolm X Festival is Back!! This family friendly event will celebrate with children’s activities\, live cultural entertainment\, speakers\, food and fabulous vendors.\n\n\n \n\n\nFor more information on vending\, artist performances\, or speaking call 214-943-8262 or email Adjwoahogue@yahoo.com
URL:https://panafricanconnection.com/event/malcolm-x-festival-2022/
LOCATION:TX
ATTACH;FMTTYPE=image/jpeg:https://panafricanconnection.com/wp-content/uploads/https___cdn.evbuc_.com_images_262575229_64455539409_1_original.jpg
END:VEVENT
BEGIN:VEVENT
DTSTART;TZID=America/Chicago:20220418T130000
DTEND;TZID=America/Chicago:20220418T150000
DTSTAMP:20260425T083217
CREATED:20220415T191003Z
LAST-MODIFIED:20220415T191003Z
UID:5833-1650286800-1650294000@panafricanconnection.com
SUMMARY:STEM For Children
DESCRIPTION:Engineering for Children.
URL:https://panafricanconnection.com/event/stem-for-children/
LOCATION:4466 S Marsalis Ave\, Dallas\, TX 75216\, USA\, 4466 S Marsalis Ave\, Dallas\, TX\, 75216\, United States
ATTACH;FMTTYPE=image/jpeg:https://panafricanconnection.com/wp-content/uploads/276128187_10225061838305799_3664783861981448442_n.jpg
END:VEVENT
BEGIN:VEVENT
DTSTART;TZID=America/Chicago:20220417T113000
DTEND;TZID=America/Chicago:20220417T133000
DTSTAMP:20260425T083217
CREATED:20220415T190853Z
LAST-MODIFIED:20220415T191014Z
UID:5832-1650195000-1650202200@panafricanconnection.com
SUMMARY:Meditation & Healing session
DESCRIPTION:This Sunday at 11:30am join BernandJackWellness] for mediation& healing session . Examine how to overcome fear and move towards the life of your dreams! Together and individually\, we will pray\, meditate and push through fear.\n\n\n•\n\n\nFor more information/to RSVP dm BernandJackWellness]
URL:https://panafricanconnection.com/event/meditation-healing-session/
LOCATION:4466 S Marsalis Ave\, Dallas\, TX 75216\, USA\, 4466 S Marsalis Ave\, Dallas\, TX\, 75216\, United States
ATTACH;FMTTYPE=image/jpeg:https://panafricanconnection.com/wp-content/uploads/chakra.jpg
END:VEVENT
END:VCALENDAR