BEGIN:VCALENDAR
VERSION:2.0
PRODID:-//Pan-African Connection - ECPv6.15.20//NONSGML v1.0//EN
CALSCALE:GREGORIAN
METHOD:PUBLISH
X-WR-CALNAME:Pan-African Connection
X-ORIGINAL-URL:https://panafricanconnection.com
X-WR-CALDESC:Events for Pan-African Connection
REFRESH-INTERVAL;VALUE=DURATION:PT1H
X-Robots-Tag:noindex
X-PUBLISHED-TTL:PT1H
BEGIN:VTIMEZONE
TZID:America/Chicago
BEGIN:DAYLIGHT
TZOFFSETFROM:-0600
TZOFFSETTO:-0500
TZNAME:CDT
DTSTART:20210314T080000
END:DAYLIGHT
BEGIN:STANDARD
TZOFFSETFROM:-0500
TZOFFSETTO:-0600
TZNAME:CST
DTSTART:20211107T070000
END:STANDARD
BEGIN:DAYLIGHT
TZOFFSETFROM:-0600
TZOFFSETTO:-0500
TZNAME:CDT
DTSTART:20220313T080000
END:DAYLIGHT
BEGIN:STANDARD
TZOFFSETFROM:-0500
TZOFFSETTO:-0600
TZNAME:CST
DTSTART:20221106T070000
END:STANDARD
BEGIN:DAYLIGHT
TZOFFSETFROM:-0600
TZOFFSETTO:-0500
TZNAME:CDT
DTSTART:20230312T080000
END:DAYLIGHT
BEGIN:STANDARD
TZOFFSETFROM:-0500
TZOFFSETTO:-0600
TZNAME:CST
DTSTART:20231105T070000
END:STANDARD
BEGIN:DAYLIGHT
TZOFFSETFROM:-0600
TZOFFSETTO:-0500
TZNAME:CDT
DTSTART:20240310T080000
END:DAYLIGHT
BEGIN:STANDARD
TZOFFSETFROM:-0500
TZOFFSETTO:-0600
TZNAME:CST
DTSTART:20241103T070000
END:STANDARD
END:VTIMEZONE
BEGIN:VEVENT
DTSTART;TZID=America/Chicago:20230603T110000
DTEND;TZID=America/Chicago:20230603T170000
DTSTAMP:20260425T064149
CREATED:20230507T142654Z
LAST-MODIFIED:20230507T142655Z
UID:6771-1685790000-1685811600@panafricanconnection.com
SUMMARY:Malcolm X Festival
DESCRIPTION:2023 Malcolm X Festival
URL:https://panafricanconnection.com/event/malcolm-x-festival/
LOCATION:Grimes Park in Desoto\,TX.\, 501 E Wintergreen Rd.\, desoto\, TX\, 75115\, United States
ORGANIZER;CN="Pan-African Connection Bookstore":MAILTO:panafric@airmail.net
END:VEVENT
BEGIN:VEVENT
DTSTART;TZID=America/Chicago:20230519T160000
DTEND;TZID=America/Chicago:20230519T180000
DTSTAMP:20260425T064149
CREATED:20230512T230726Z
LAST-MODIFIED:20230512T230726Z
UID:6786-1684512000-1684519200@panafricanconnection.com
SUMMARY:
DESCRIPTION:4pm Friday May 19th\, bring the children after school for a healthy snack and discussion on healthy eating. Free.
URL:https://panafricanconnection.com/event/6786/
LOCATION:Pan African Connection Bookstore\, 4466 SOUTH MARSALIS AVE\, DALLAS\, TX\, 75216\, United States
CATEGORIES:Children's arts and crafts,health\
ORGANIZER;CN="Pan-African Connection Bookstore":MAILTO:panafric@airmail.net
END:VEVENT
BEGIN:VEVENT
DTSTART;TZID=America/Chicago:20230517T183000
DTEND;TZID=America/Chicago:20230517T203000
DTSTAMP:20260425T064149
CREATED:20230512T230012Z
LAST-MODIFIED:20230512T230204Z
UID:6779-1684348200-1684355400@panafricanconnection.com
SUMMARY:Caravan to Cuba End the Economic Blockade
DESCRIPTION:6:30pm Wednesday May 17th\, join us as we welcome the IFCO/Pastor’s for Peace Friendshipment Caravan. We will be raising the awareness of the illegal Economic Blockade on the people of Cuba. Cultural performances\, speakers and we are requesting you bring a potluck dish. Call 214-943-8262.
URL:https://panafricanconnection.com/event/caravan-to-cuba-end-the-economic-blockade/
LOCATION:Pan African Connection Bookstore\, 4466 SOUTH MARSALIS AVE\, DALLAS\, TX\, 75216\, United States
CATEGORIES:cuba,Gentrification
ORGANIZER;CN="Pan-African Connection Bookstore":MAILTO:panafric@airmail.net
END:VEVENT
BEGIN:VEVENT
DTSTART;TZID=America/Chicago:20230507T120000
DTEND;TZID=America/Chicago:20230507T170000
DTSTAMP:20260425T064149
CREATED:20230507T141232Z
LAST-MODIFIED:20230507T141232Z
UID:6767-1683460800-1683478800@panafricanconnection.com
SUMMARY:Ubuntu Farmers Market
DESCRIPTION:Support Black Businesses and Food Growers\, Live DJ and Family Activitie
URL:https://panafricanconnection.com/event/ubuntu-farmers-market/
LOCATION:Pan African Connection Bookstore\, 4466 SOUTH MARSALIS AVE\, DALLAS\, TX\, 75216\, United States
ATTACH;FMTTYPE=image/jpeg:https://panafricanconnection.com/wp-content/uploads/farmers-market.jpg
ORGANIZER;CN="Pan-African Connection Bookstore":MAILTO:panafric@airmail.net
END:VEVENT
BEGIN:VEVENT
DTSTART;TZID=America/Chicago:20230319T133000
DTEND;TZID=America/Chicago:20230319T150000
DTSTAMP:20260425T064149
CREATED:20230310T155644Z
LAST-MODIFIED:20230310T155644Z
UID:6646-1679232600-1679238000@panafricanconnection.com
SUMMARY:Black History Trivia
DESCRIPTION:Black History 365 Trivia
URL:https://panafricanconnection.com/event/black-history-trivia/
LOCATION:Pan African Connection Bookstore\, 4466 SOUTH MARSALIS AVE\, DALLAS\, TX\, 75216\, United States
CATEGORIES:Black History Month
ORGANIZER;CN="Pan-African Connection Bookstore":MAILTO:panafric@airmail.net
END:VEVENT
BEGIN:VEVENT
DTSTART;TZID=America/Chicago:20230319T130000
DTEND;TZID=America/Chicago:20230319T170000
DTSTAMP:20260425T064149
CREATED:20230317T121827Z
LAST-MODIFIED:20230317T121916Z
UID:6715-1679230800-1679245200@panafricanconnection.com
SUMMARY:Literacy Connect Book Giveaway
DESCRIPTION:Literacy Connect Free Books
URL:https://panafricanconnection.com/event/literacy-connect-book-giveaway/
LOCATION:Pan African Connection Bookstore\, 4466 SOUTH MARSALIS AVE\, DALLAS\, TX\, 75216\, United States
ATTACH;FMTTYPE=image/jpeg:https://panafricanconnection.com/wp-content/uploads/bookgive-away.jpg
ORGANIZER;CN="Pan-African Connection Bookstore":MAILTO:panafric@airmail.net
END:VEVENT
BEGIN:VEVENT
DTSTART;TZID=America/Chicago:20230319T130000
DTEND;TZID=America/Chicago:20230319T150000
DTSTAMP:20260425T064149
CREATED:20230317T122324Z
LAST-MODIFIED:20230317T122324Z
UID:6718-1679230800-1679238000@panafricanconnection.com
SUMMARY:Anti-War  Forum 20th Anniversary of the Iraq War
DESCRIPTION:Anti-War Forum
URL:https://panafricanconnection.com/event/anti-war-forum-20th-anniversary-of-the-iraq-war/
LOCATION:Pan African Connection Bookstore\, 4466 SOUTH MARSALIS AVE\, DALLAS\, TX\, 75216\, United States
CATEGORIES:anti war
ATTACH;FMTTYPE=image/jpeg:https://panafricanconnection.com/wp-content/uploads/psl.jpg
ORGANIZER;CN="Pan-African Connection Bookstore":MAILTO:panafric@airmail.net
END:VEVENT
BEGIN:VEVENT
DTSTART;TZID=America/Chicago:20230318T190000
DTEND;TZID=America/Chicago:20230318T210000
DTSTAMP:20260425T064149
CREATED:20230310T155108Z
LAST-MODIFIED:20230310T155108Z
UID:6640-1679166000-1679173200@panafricanconnection.com
SUMMARY:Peoples'
DESCRIPTION:Teach in People’s Tribunal on Texas Death Penalty \n 
URL:https://panafricanconnection.com/event/peoples/
LOCATION:Pan African Connection Bookstore\, 4466 SOUTH MARSALIS AVE\, DALLAS\, TX\, 75216\, United States
CATEGORIES:Death Penalty in Texas
ORGANIZER;CN="Pan-African Connection Bookstore":MAILTO:panafric@airmail.net
END:VEVENT
BEGIN:VEVENT
DTSTART;TZID=America/Chicago:20230318T140000
DTEND;TZID=America/Chicago:20230318T160000
DTSTAMP:20260425T064149
CREATED:20230310T153634Z
LAST-MODIFIED:20230310T153634Z
UID:6637-1679148000-1679155200@panafricanconnection.com
SUMMARY:Harriett Tubman Birthday Tribute
DESCRIPTION:
URL:https://panafricanconnection.com/event/harriett-tubman-birthday-tribute/
LOCATION:Pan African Connection Bookstore\, 4466 SOUTH MARSALIS AVE\, DALLAS\, TX\, 75216\, United States
CATEGORIES:women's History month
ATTACH;FMTTYPE=image/jpeg:https://panafricanconnection.com/wp-content/uploads/olinka.jpg
ORGANIZER;CN="Pan-African Connection Bookstore":MAILTO:panafric@airmail.net
END:VEVENT
BEGIN:VEVENT
DTSTART;TZID=America/Chicago:20230318T130000
DTEND;TZID=America/Chicago:20230318T150000
DTSTAMP:20260425T064149
CREATED:20230317T121150Z
LAST-MODIFIED:20230317T121150Z
UID:6708-1679144400-1679151600@panafricanconnection.com
SUMMARY:Know Thy Self Conversations
DESCRIPTION:
URL:https://panafricanconnection.com/event/know-thy-self-conversations/
LOCATION:4466 S Marsalis Ave\, Dallas\, TX 75216\, USA\, 4466 S Marsalis Ave\, Dallas\, TX\, 75216\, United States
CATEGORIES:Community Discussions
ATTACH;FMTTYPE=image/jpeg:https://panafricanconnection.com/wp-content/uploads/kaya.jpg
ORGANIZER;CN="Pan-African Connection Bookstore":MAILTO:panafric@airmail.net
END:VEVENT
BEGIN:VEVENT
DTSTART;TZID=America/Chicago:20230219T140000
DTEND;TZID=America/Chicago:20230219T170000
DTSTAMP:20260425T064149
CREATED:20230217T182005Z
LAST-MODIFIED:20230217T182005Z
UID:6515-1676815200-1676826000@panafricanconnection.com
SUMMARY:Black Tech Celebrating Black History Month
DESCRIPTION:Microsoft\, Amazon\, and Google
URL:https://panafricanconnection.com/event/black-tech-celebrating-black-history-month/
LOCATION:Pan African Connection Bookstore\, 4466 SOUTH MARSALIS AVE\, DALLAS\, TX\, 75216\, United States
CATEGORIES:Black History Month
ATTACH;FMTTYPE=image/jpeg:https://panafricanconnection.com/wp-content/uploads/tech.jpg
ORGANIZER;CN="Pan-African Connection Bookstore":MAILTO:panafric@airmail.net
END:VEVENT
BEGIN:VEVENT
DTSTART;TZID=America/Chicago:20230218T160000
DTEND;TZID=America/Chicago:20230218T180000
DTSTAMP:20260425T064149
CREATED:20230217T180442Z
LAST-MODIFIED:20230217T181550Z
UID:6510-1676736000-1676743200@panafricanconnection.com
SUMMARY:Policing our Community
DESCRIPTION:Community Policing
URL:https://panafricanconnection.com/event/community-policing/
LOCATION:Pan African Connection Bookstore\, 4466 SOUTH MARSALIS AVE\, DALLAS\, TX\, 75216\, United States
CATEGORIES:Black History Month,police
ATTACH;FMTTYPE=image/jpeg:https://panafricanconnection.com/wp-content/uploads/dan.jpg
ORGANIZER;CN="Pan-African Connection Bookstore":MAILTO:panafric@airmail.net
END:VEVENT
BEGIN:VEVENT
DTSTART;TZID=America/Chicago:20230218T130000
DTEND;TZID=America/Chicago:20230218T150000
DTSTAMP:20260425T064149
CREATED:20230217T180107Z
LAST-MODIFIED:20230217T180107Z
UID:6508-1676725200-1676732400@panafricanconnection.com
SUMMARY:Lets Say No to Gentrification
DESCRIPTION:No to Gentrification
URL:https://panafricanconnection.com/event/lets-say-no-to-gentrification/
LOCATION:Pan African Connection Bookstore\, 4466 SOUTH MARSALIS AVE\, DALLAS\, TX\, 75216\, United States
CATEGORIES:Gentrification
ATTACH;FMTTYPE=image/jpeg:https://panafricanconnection.com/wp-content/uploads/shain.jpg
ORGANIZER;CN="Pan-African Connection Bookstore":MAILTO:panafric@airmail.net
END:VEVENT
BEGIN:VEVENT
DTSTART;TZID=America/Chicago:20230217T190000
DTEND;TZID=America/Chicago:20230217T210000
DTSTAMP:20260425T064149
CREATED:20230217T175735Z
LAST-MODIFIED:20230217T175735Z
UID:6502-1676660400-1676667600@panafricanconnection.com
SUMMARY:Black History Open Mic
DESCRIPTION:  \nBring your Culture to the Mic \n 
URL:https://panafricanconnection.com/event/black-history-open-mic/
LOCATION:Pan African Connection Bookstore\, 4466 SOUTH MARSALIS AVE\, DALLAS\, TX\, 75216\, United States
ATTACH;FMTTYPE=image/jpeg:https://panafricanconnection.com/wp-content/uploads/open-mic.jpg
ORGANIZER;CN="Pan-African Connection Bookstore":MAILTO:panafric@airmail.net
END:VEVENT
BEGIN:VEVENT
DTSTART;TZID=America/Chicago:20230212T150000
DTEND;TZID=America/Chicago:20230212T170000
DTSTAMP:20260425T064149
CREATED:20230211T131905Z
LAST-MODIFIED:20230211T131905Z
UID:6495-1676214000-1676221200@panafricanconnection.com
SUMMARY:Sunday Community African Drum Circle
DESCRIPTION:African Drum Circle
URL:https://panafricanconnection.com/event/sunday-community-african-drum-circle/
LOCATION:Pan African Connection Bookstore\, 4466 SOUTH MARSALIS AVE\, DALLAS\, TX\, 75216\, United States
ATTACH;FMTTYPE=image/jpeg:https://panafricanconnection.com/wp-content/uploads/drum.jpg
ORGANIZER;CN="Pan-African Connection Bookstore":MAILTO:panafric@airmail.net
END:VEVENT
BEGIN:VEVENT
DTSTART;TZID=America/Chicago:20230212T130000
DTEND;TZID=America/Chicago:20230212T130000
DTSTAMP:20260425T064149
CREATED:20230211T131307Z
LAST-MODIFIED:20230211T131307Z
UID:6492-1676206800-1676206800@panafricanconnection.com
SUMMARY:Book Signing Erica "Ms Precious" Mcgee
DESCRIPTION:Book Signing
URL:https://panafricanconnection.com/event/book-signing-erica-ms-precious-mcgee/
LOCATION:Pan African Connection Bookstore\, 4466 SOUTH MARSALIS AVE\, DALLAS\, TX\, 75216\, United States
CATEGORIES:Book Tour
ATTACH;FMTTYPE=image/jpeg:https://panafricanconnection.com/wp-content/uploads/329714675_725693222413071_5793435623917653712_n.jpg
ORGANIZER;CN="Pan-African Connection Bookstore":MAILTO:panafric@airmail.net
END:VEVENT
BEGIN:VEVENT
DTSTART;TZID=America/Chicago:20230211T173000
DTEND;TZID=America/Chicago:20230211T190000
DTSTAMP:20260425T064149
CREATED:20230211T125615Z
LAST-MODIFIED:20230211T125615Z
UID:6483-1676136600-1676142000@panafricanconnection.com
SUMMARY:Viewing of Kwame Ture Speech on Lessons from the 60's
DESCRIPTION:Kwame Ture Speech
URL:https://panafricanconnection.com/event/viewing-of-kwame-ture-speech-on-lessons-from-the-60s/
LOCATION:Pan African Connection Bookstore\, 4466 SOUTH MARSALIS AVE\, DALLAS\, TX\, 75216\, United States
ATTACH;FMTTYPE=image/jpeg:https://panafricanconnection.com/wp-content/uploads/kwame-ture.jpg
ORGANIZER;CN="Pan-African Connection Bookstore":MAILTO:panafric@airmail.net
END:VEVENT
BEGIN:VEVENT
DTSTART;TZID=America/Chicago:20230211T150000
DTEND;TZID=America/Chicago:20230211T170000
DTSTAMP:20260425T064149
CREATED:20230211T124823Z
LAST-MODIFIED:20230211T124823Z
UID:6480-1676127600-1676134800@panafricanconnection.com
SUMMARY:Black Food and Resistance
DESCRIPTION:Black Communities Grown Food
URL:https://panafricanconnection.com/event/black-food-and-resistance/
LOCATION:Pan African Connection Bookstore\, 4466 SOUTH MARSALIS AVE\, DALLAS\, TX\, 75216\, United States
CATEGORIES:Urban farming
ATTACH;FMTTYPE=image/jpeg:https://panafricanconnection.com/wp-content/uploads/food-sov.jpg
ORGANIZER;CN="Pan-African Connection Bookstore":MAILTO:panafric@airmail.net
END:VEVENT
BEGIN:VEVENT
DTSTART;TZID=America/Chicago:20230211T130000
DTEND;TZID=America/Chicago:20230211T150000
DTSTAMP:20260425T064149
CREATED:20230211T130644Z
LAST-MODIFIED:20230211T130644Z
UID:6490-1676120400-1676127600@panafricanconnection.com
SUMMARY:Reel Talk with Queen
DESCRIPTION:Finding love in youself
URL:https://panafricanconnection.com/event/reel-talk-with-queen/
LOCATION:Pan African Connection Bookstore\, 4466 SOUTH MARSALIS AVE\, DALLAS\, TX\, 75216\, United States
CATEGORIES:Self Care
ORGANIZER;CN="Pan-African Connection Bookstore":MAILTO:panafric@airmail.net
END:VEVENT
BEGIN:VEVENT
DTSTART;TZID=America/Chicago:20230211T113000
DTEND;TZID=America/Chicago:20230211T123000
DTSTAMP:20260425T064149
CREATED:20230211T124029Z
LAST-MODIFIED:20230211T124218Z
UID:6475-1676115000-1676118600@panafricanconnection.com
SUMMARY:African American Read In Storytime
DESCRIPTION:African American Read In
URL:https://panafricanconnection.com/event/6475/
LOCATION:Pan African Connection Bookstore\, 4466 SOUTH MARSALIS AVE\, DALLAS\, TX\, 75216\, United States
ORGANIZER;CN="Pan-African Connection Bookstore":MAILTO:panafric@airmail.net
END:VEVENT
BEGIN:VEVENT
DTSTART;TZID=America/Chicago:20221211T130000
DTEND;TZID=America/Chicago:20221211T150000
DTSTAMP:20260425T064149
CREATED:20221210T034440Z
LAST-MODIFIED:20221210T034440Z
UID:6425-1670763600-1670770800@panafricanconnection.com
SUMMARY:Urban Growers Workshop
DESCRIPTION:
URL:https://panafricanconnection.com/event/urban-growers-workshop/
LOCATION:Pan African Connection Bookstore\, 4466 SOUTH MARSALIS AVE\, DALLAS\, TX\, 75216\, United States
CATEGORIES:health\,Urban farming
ORGANIZER;CN="Pan-African Connection Bookstore":MAILTO:panafric@airmail.net
END:VEVENT
BEGIN:VEVENT
DTSTART;TZID=America/Chicago:20221210T170000
DTEND;TZID=America/Chicago:20221210T190000
DTSTAMP:20260425T064149
CREATED:20221210T035402Z
LAST-MODIFIED:20221210T035402Z
UID:6429-1670691600-1670698800@panafricanconnection.com
SUMMARY:Book Signing and Discussion\, The life of a Black Chef
DESCRIPTION:Tom Kitty\, Kitchen Stories\, reveals common issues face by African American Chef’s. High expectations\, deadlines and demands\, that intrude on the daily lifestyles of these practitioners.
URL:https://panafricanconnection.com/event/book-signing-and-discussion-the-life-of-a-black-chef/
LOCATION:Pan African Connection Bookstore\, 4466 SOUTH MARSALIS AVE\, DALLAS\, TX\, 75216\, United States
CATEGORIES:Book Signing,health\
ATTACH;FMTTYPE=image/jpeg:https://panafricanconnection.com/wp-content/uploads/chef.jpg
ORGANIZER;CN="Pan-African Connection Bookstore":MAILTO:panafric@airmail.net
END:VEVENT
BEGIN:VEVENT
DTSTART;TZID=America/Chicago:20221210T150000
DTEND;TZID=America/Chicago:20221210T170000
DTSTAMP:20260425T064149
CREATED:20221210T031737Z
LAST-MODIFIED:20221210T034052Z
UID:6416-1670684400-1670691600@panafricanconnection.com
SUMMARY:Discussion on Black Food Sovereignty with Malik Yakini
DESCRIPTION:Discussion on Black Food Sovereignty \nSaturday at 3pm – Discussion on Black Food Sovereignty. We encourage all gardeners\, urban farmers\, food growers to attend\, to strategize and consolidate our network to intensify the food narrative in the our the DFW BLACk/African community. (In person at the African Connection Bookstore.)
URL:https://panafricanconnection.com/event/6416/
LOCATION:Pan African Connection Bookstore\, 4466 SOUTH MARSALIS AVE\, DALLAS\, TX\, 75216\, United States
CATEGORIES:Urban farming
ATTACH;FMTTYPE=image/jpeg:https://panafricanconnection.com/wp-content/uploads/malik.jpg
ORGANIZER;CN="Pan-African Connection Bookstore":MAILTO:panafric@airmail.net
END:VEVENT
BEGIN:VEVENT
DTSTART;TZID=America/Chicago:20221210T130000
DTEND;TZID=America/Chicago:20221210T150000
DTSTAMP:20260425T064149
CREATED:20221210T034923Z
LAST-MODIFIED:20221210T034923Z
UID:6427-1670677200-1670684400@panafricanconnection.com
SUMMARY:Book Signing Determined to Change\, by Brother Winford X
DESCRIPTION:Winford X is an aspiring and upcoming author\, and this book is his first debut. Winford’s life changed at the young age of 19 when he was incarcerated for 15 years. Winford is a proud member of the Nation of Islam. This book\, “Determined to Change” demonstrates his gratitude to Allah for the journey he has begun.
URL:https://panafricanconnection.com/event/book-signing-determined-to-change-by-brother-winford-x/
LOCATION:Pan African Connection Bookstore\, 4466 SOUTH MARSALIS AVE\, DALLAS\, TX\, 75216\, United States
CATEGORIES:Book signing and Talk on predators
ATTACH;FMTTYPE=image/jpeg:https://panafricanconnection.com/wp-content/uploads/x.jpg
ORGANIZER;CN="Pan-African Connection Bookstore":MAILTO:panafric@airmail.net
END:VEVENT
BEGIN:VEVENT
DTSTART;TZID=America/Chicago:20221015T160000
DTEND;TZID=America/Chicago:20221015T180000
DTSTAMP:20260425T064149
CREATED:20220924T012704Z
LAST-MODIFIED:20220924T012704Z
UID:6302-1665849600-1665856800@panafricanconnection.com
SUMMARY:Book Signing Food Insecurity
DESCRIPTION:
URL:https://panafricanconnection.com/event/book-signing-food-insecurity/
LOCATION:4466 S Marsalis Ave\, Dallas\, TX 75216\, USA\, 4466 S Marsalis Ave\, Dallas\, TX\, 75216\, United States
CATEGORIES:Book signing and Talk on predators
ATTACH;FMTTYPE=image/jpeg:https://panafricanconnection.com/wp-content/uploads/dr-yvette.jpg
ORGANIZER;CN="Pan-African Connection Bookstore":MAILTO:panafric@airmail.net
END:VEVENT
BEGIN:VEVENT
DTSTART;TZID=America/Chicago:20221010T190000
DTEND;TZID=America/Chicago:20221010T210000
DTSTAMP:20260425T064149
CREATED:20220924T010818Z
LAST-MODIFIED:20220924T012849Z
UID:6289-1665428400-1665435600@panafricanconnection.com
SUMMARY:Black Hollywood Book Tour
DESCRIPTION:“Carell Augustus is a genius.” ―Karamo Brown \nA visionary photography book that brings together the best of classic Hollywood with today’s iconic Black entertainers for an immersive experience unlike anything you’ve ever seen before. \nFeatures a foreword by Academy Award winner Forest Whitaker and an afterword by beloved entertainer Niecy Nash! \nBlack Hollywood is a groundbreaking reimagining of Hollywood’s most beloved films\, including Breakfast at Tiffany’s\, Singin’ in the Rain\, Mission: Impossible\, Forrest Gump\, and more. Visionary photographer Carell Augustus has created a “who’s who” of today’s Black entertainers recreating iconic cinematic scenes\, renewing readers’ appreciation of the past while asking questions about representation in media and inspiring the artists of the future. \nCompiled over the course of more than ten years and highlighting more than sixty-five stars such as Vanessa L. Williams\, Dulé Hill\, Karamo Brown\, Shermar Moore\, and others\, Carell Augustus says\, “Black Hollywood is not just a book for Black people―it’s a book for all people about Black people. About the dreams we were never told we could achieve. About the places we were never told we could go. And now\, finally\, about how we can get there.”
URL:https://panafricanconnection.com/event/black-hollywood-book-tour/
LOCATION:Pan African Connection Bookstore\, 4466 SOUTH MARSALIS AVE\, DALLAS\, TX\, 75216\, United States
CATEGORIES:Art,Book Signing,Book Tour,Celebrity,photography
ATTACH;FMTTYPE=image/jpeg:https://panafricanconnection.com/wp-content/uploads/photog.jpg
ORGANIZER;CN="Pan-African Connection Bookstore":MAILTO:panafric@airmail.net
END:VEVENT
BEGIN:VEVENT
DTSTART;TZID=America/Chicago:20221001T160000
DTEND;TZID=America/Chicago:20221001T180000
DTSTAMP:20260425T064149
CREATED:20220930T222905Z
LAST-MODIFIED:20220930T222905Z
UID:6311-1664640000-1664647200@panafricanconnection.com
SUMMARY:Discussion on Movie 'Woman is King'
DESCRIPTION:Women is King
URL:https://panafricanconnection.com/event/discussion-on-movie-woman-is-king/
LOCATION:4466 S Marsalis Ave\, Dallas\, TX 75216\, USA\, 4466 S Marsalis Ave\, Dallas\, TX\, 75216\, United States
CATEGORIES:Discussion
ATTACH;FMTTYPE=image/jpeg:https://panafricanconnection.com/wp-content/uploads/woman-king.jpg
ORGANIZER;CN="Pan-African Connection Bookstore":MAILTO:panafric@airmail.net
END:VEVENT
BEGIN:VEVENT
DTSTART;TZID=America/Chicago:20221001T140000
DTEND;TZID=America/Chicago:20221001T150000
DTSTAMP:20260425T064149
CREATED:20220930T224401Z
LAST-MODIFIED:20220930T224549Z
UID:6318-1664632800-1664636400@panafricanconnection.com
SUMMARY:Play the Child Who Loved to Read
DESCRIPTION:Play for Children
URL:https://panafricanconnection.com/event/play-the-child-who-loved-to-read/
LOCATION:4466 S Marsalis Ave\, Dallas\, TX 75216\, USA\, 4466 S Marsalis Ave\, Dallas\, TX\, 75216\, United States
CATEGORIES:Children's arts and crafts
ATTACH;FMTTYPE=image/jpeg:https://panafricanconnection.com/wp-content/uploads/read.jpg
ORGANIZER;CN="Pan-African Connection Bookstore":MAILTO:panafric@airmail.net
END:VEVENT
BEGIN:VEVENT
DTSTART;TZID=America/Chicago:20221001T123000
DTEND;TZID=America/Chicago:20221001T140000
DTSTAMP:20260425T064149
CREATED:20220930T224010Z
LAST-MODIFIED:20220930T224010Z
UID:6316-1664627400-1664632800@panafricanconnection.com
SUMMARY:Acting with Masks
DESCRIPTION:Acting and Masking Folk Mask
URL:https://panafricanconnection.com/event/acting-with-masks/
LOCATION:4466 S Marsalis Ave\, Dallas\, TX 75216\, USA\, 4466 S Marsalis Ave\, Dallas\, TX\, 75216\, United States
CATEGORIES:Children's arts and crafts
ATTACH;FMTTYPE=image/jpeg:https://panafricanconnection.com/wp-content/uploads/mask-making.jpg
ORGANIZER;CN="Pan-African Connection Bookstore":MAILTO:panafric@airmail.net
END:VEVENT
BEGIN:VEVENT
DTSTART;TZID=America/Chicago:20220929T190000
DTEND;TZID=America/Chicago:20220929T200000
DTSTAMP:20260425T064149
CREATED:20220924T005127Z
LAST-MODIFIED:20220924T005207Z
UID:6286-1664478000-1664481600@panafricanconnection.com
SUMMARY:Thursday Night Yoga
DESCRIPTION:  \nYoga
URL:https://panafricanconnection.com/event/thursday-night-yoga/
LOCATION:Pan African Connection Bookstore\, 4466 SOUTH MARSALIS AVE\, DALLAS\, TX\, 75216\, United States
CATEGORIES:health\,yoga
ATTACH;FMTTYPE=image/jpeg:https://panafricanconnection.com/wp-content/uploads/yoga2.jpg
END:VEVENT
END:VCALENDAR