BEGIN:VCALENDAR
VERSION:2.0
PRODID:-//Pan-African Connection - ECPv6.15.20//NONSGML v1.0//EN
CALSCALE:GREGORIAN
METHOD:PUBLISH
X-ORIGINAL-URL:https://panafricanconnection.com
X-WR-CALDESC:Events for Pan-African Connection
REFRESH-INTERVAL;VALUE=DURATION:PT1H
X-Robots-Tag:noindex
X-PUBLISHED-TTL:PT1H
BEGIN:VTIMEZONE
TZID:America/Chicago
BEGIN:DAYLIGHT
TZOFFSETFROM:-0600
TZOFFSETTO:-0500
TZNAME:CDT
DTSTART:20240310T080000
END:DAYLIGHT
BEGIN:STANDARD
TZOFFSETFROM:-0500
TZOFFSETTO:-0600
TZNAME:CST
DTSTART:20241103T070000
END:STANDARD
BEGIN:DAYLIGHT
TZOFFSETFROM:-0600
TZOFFSETTO:-0500
TZNAME:CDT
DTSTART:20250309T080000
END:DAYLIGHT
BEGIN:STANDARD
TZOFFSETFROM:-0500
TZOFFSETTO:-0600
TZNAME:CST
DTSTART:20251102T070000
END:STANDARD
BEGIN:DAYLIGHT
TZOFFSETFROM:-0600
TZOFFSETTO:-0500
TZNAME:CDT
DTSTART:20260308T080000
END:DAYLIGHT
BEGIN:STANDARD
TZOFFSETFROM:-0500
TZOFFSETTO:-0600
TZNAME:CST
DTSTART:20261101T070000
END:STANDARD
END:VTIMEZONE
BEGIN:VEVENT
DTSTART;TZID=America/Chicago:20251101T110000
DTEND;TZID=America/Chicago:20251101T130000
DTSTAMP:20260423T192304
CREATED:20251031T124228Z
LAST-MODIFIED:20251031T124228Z
UID:8498-1761994800-1762002000@panafricanconnection.com
SUMMARY:Ready\, Set Read !!
DESCRIPTION:
URL:https://panafricanconnection.com/event/ready-set-read-2/
LOCATION:Pan African Connection Bookstore\, 4466 SOUTH MARSALIS AVE\, DALLAS\, TX\, 75216\, United States
CATEGORIES:storytime
ATTACH;FMTTYPE=image/jpeg:https://panafricanconnection.com/wp-content/uploads/574111808_811959391581329_9147252778403854066_n.jpg
ORGANIZER;CN="Pan-African Connection Bookstore":MAILTO:panafric@airmail.net
END:VEVENT
BEGIN:VEVENT
DTSTART;TZID=America/Chicago:20251101T130000
DTEND;TZID=America/Chicago:20251101T170000
DTSTAMP:20260423T192305
CREATED:20251031T124902Z
LAST-MODIFIED:20251031T124902Z
UID:8504-1762002000-1762016400@panafricanconnection.com
SUMMARY:Freedoms Cemetery Ancestor Tribute
DESCRIPTION:
URL:https://panafricanconnection.com/event/freedoms-cemetery-ancestor-tribute/
LOCATION:freedmans Cemetary\, 2700 lemon ave\, dallas\, Texas\, 75204
ATTACH;FMTTYPE=image/jpeg:https://panafricanconnection.com/wp-content/uploads/571680892_811551988288736_999291996238564686_n.jpg
END:VEVENT
BEGIN:VEVENT
DTSTART;TZID=America/Chicago:20251107T190000
DTEND;TZID=America/Chicago:20251107T210000
DTSTAMP:20260423T192305
CREATED:20251031T125721Z
LAST-MODIFIED:20251031T125721Z
UID:8509-1762542000-1762549200@panafricanconnection.com
SUMMARY:Tulisoma Award Akwete Tyehimba
DESCRIPTION:
URL:https://panafricanconnection.com/event/tulisoma-award-akwete-tyehimba/
LOCATION:african americn Museum\, 3536 grand ave\, dallas\, TX\, 75210\, United States
ATTACH;FMTTYPE=image/jpeg:https://panafricanconnection.com/wp-content/uploads/571236989_809541618489773_116739129946388839_n.jpg
END:VEVENT
BEGIN:VEVENT
DTSTART;TZID=America/Chicago:20251114T080000
DTEND;TZID=America/Chicago:20251114T170000
DTSTAMP:20260423T192305
CREATED:20251115T000138Z
LAST-MODIFIED:20251115T000138Z
UID:8530-1763107200-1763139600@panafricanconnection.com
SUMMARY:Ubuntu Farmers Market
DESCRIPTION:
URL:https://panafricanconnection.com/event/ubuntu-farmers-market-8/
LOCATION:TX
CATEGORIES:farmers Market
ATTACH;FMTTYPE=image/jpeg:https://panafricanconnection.com/wp-content/uploads/582030348_850633037492871_2376663741638193637_n.jpg
END:VEVENT
BEGIN:VEVENT
DTSTART;TZID=America/Chicago:20251114T180000
DTEND;TZID=America/Chicago:20251114T200000
DTSTAMP:20260423T192305
CREATED:20251114T225050Z
LAST-MODIFIED:20251114T225050Z
UID:8518-1763143200-1763150400@panafricanconnection.com
SUMMARY:Wesley Muhammad Signs New Book
DESCRIPTION:
URL:https://panafricanconnection.com/event/wesley-muhammad-signs-new-book/
LOCATION:Pan African Connection Bookstore\, 4466 SOUTH MARSALIS AVE\, DALLAS\, TX\, 75216\, United States
CATEGORIES:Book Signing
ATTACH;FMTTYPE=image/jpeg:https://panafricanconnection.com/wp-content/uploads/580704815_823261930451075_4888435095864950335_n.jpg
ORGANIZER;CN="Pan-African Connection Bookstore":MAILTO:panafric@airmail.net
END:VEVENT
BEGIN:VEVENT
DTSTART;TZID=America/Chicago:20251115T150000
DTEND;TZID=America/Chicago:20251115T170000
DTSTAMP:20260423T192305
CREATED:20251114T225727Z
LAST-MODIFIED:20251114T225727Z
UID:8526-1763218800-1763226000@panafricanconnection.com
SUMMARY:Ancestral Promise: Unlocking Your Gifts and Epigenetic Activation
DESCRIPTION:
URL:https://panafricanconnection.com/event/ancestral-promise-unlocking-your-gifts-and-epigenetic-activation/
LOCATION:Pan African Connection Bookstore\, 4466 SOUTH MARSALIS AVE\, DALLAS\, TX\, 75216\, United States
CATEGORIES:Book Signing
ATTACH;FMTTYPE=image/jpeg:https://panafricanconnection.com/wp-content/uploads/581930273_823164193794182_5555466050074629569_n-1.jpg
ORGANIZER;CN="Pan-African Connection Bookstore":MAILTO:panafric@airmail.net
END:VEVENT
BEGIN:VEVENT
DTSTART;TZID=America/Chicago:20251116T130000
DTEND;TZID=America/Chicago:20251116T170000
DTSTAMP:20260423T192305
CREATED:20251115T001238Z
LAST-MODIFIED:20251115T001238Z
UID:8536-1763298000-1763312400@panafricanconnection.com
SUMMARY:Ubuntu Farmers Market
DESCRIPTION:
URL:https://panafricanconnection.com/event/ubuntu-farmers-market-9/
LOCATION:Pan African Connection Bookstore\, 4466 SOUTH MARSALIS AVE\, DALLAS\, TX\, 75216\, United States
CATEGORIES:farmers Market
ATTACH;FMTTYPE=image/jpeg:https://panafricanconnection.com/wp-content/uploads/582030348_850633037492871_2376663741638193637_n.jpg
ORGANIZER;CN="Pan-African Connection Bookstore":MAILTO:panafric@airmail.net
END:VEVENT
BEGIN:VEVENT
DTSTART;TZID=America/Chicago:20251122T150000
DTEND;TZID=America/Chicago:20251122T170000
DTSTAMP:20260423T192305
CREATED:20251114T233730Z
LAST-MODIFIED:20251115T000858Z
UID:8528-1763823600-1763830800@panafricanconnection.com
SUMMARY:Track Club Dallas; Speaks on Team Unity
DESCRIPTION:← Back Thank you for your response. ✨\n\n\n					\n						\n							\n							\n						\n						\n						\n						\n						\n							\n								\n									\n										\n										\n									\n									\n										\n										\n									\n								\n							\n						\n						\n							\n								\n									\n									\n										\n									\n									\n									\n								\n							\n						\n					\n				\n\n\n\nName(required)\n\n \n			\n				\n					\n						\n						\n						\n					\n				\n				\n			 \n	\n\n\nEmail(required)\n\n \n			\n				\n					\n						\n						\n						\n					\n				\n				\n			 \n	\n\n\nWebsite\n\n \n			\n				\n					\n						\n						\n						\n					\n				\n				\n			 \n	\n\n\nMessage\n\n \n			\n				\n					\n						\n						\n						\n					\n				\n				\n			\n	\n	\n\n				\n					\n				\n						Submit		\n		\n		\n	 \nΔ
URL:https://panafricanconnection.com/event/track-club-dallas-speaks-on-team-unity/
LOCATION:Pan African Connection Bookstore\, 4466 SOUTH MARSALIS AVE\, DALLAS\, TX\, 75216\, United States
CATEGORIES:sports
ATTACH;FMTTYPE=image/jpeg:https://panafricanconnection.com/wp-content/uploads/576379835_817051651072103_4293342607280126019_n.jpg
ORGANIZER;CN="Pan-African Connection Bookstore":MAILTO:panafric@airmail.net
END:VEVENT
BEGIN:VEVENT
DTSTART;TZID=America/Chicago:20251123T130000
DTEND;TZID=America/Chicago:20251123T150000
DTSTAMP:20260423T192305
CREATED:20251115T000415Z
LAST-MODIFIED:20251115T000415Z
UID:8534-1763902800-1763910000@panafricanconnection.com
SUMMARY:Smudge It Workshop
DESCRIPTION:
URL:https://panafricanconnection.com/event/smudge-it-workshop/
LOCATION:Pan African Connection Bookstore\, 4466 SOUTH MARSALIS AVE\, DALLAS\, TX\, 75216\, United States
CATEGORIES:health\
ATTACH;FMTTYPE=image/jpeg:https://panafricanconnection.com/wp-content/uploads/582602246_824812516962683_2004199994162474803_n.jpg
ORGANIZER;CN="Pan-African Connection Bookstore":MAILTO:panafric@airmail.net
END:VEVENT
BEGIN:VEVENT
DTSTART;TZID=America/Chicago:20251217T190000
DTEND;TZID=America/Chicago:20251217T210000
DTSTAMP:20260423T192305
CREATED:20251217T204125Z
LAST-MODIFIED:20251217T204125Z
UID:8545-1765998000-1766005200@panafricanconnection.com
SUMMARY:Open Mic
DESCRIPTION:
URL:https://panafricanconnection.com/event/open-mic-2/
LOCATION:Pan African Connection Bookstore\, 4466 SOUTH MARSALIS AVE\, DALLAS\, TX\, 75216\, United States
ORGANIZER;CN="Pan-African Connection Bookstore":MAILTO:panafric@airmail.net
END:VEVENT
BEGIN:VEVENT
DTSTART;TZID=America/Chicago:20251226T130000
DTEND;TZID=America/Chicago:20251226T210000
DTSTAMP:20260423T192305
CREATED:20251224T152316Z
LAST-MODIFIED:20251224T152316Z
UID:8569-1766754000-1766782800@panafricanconnection.com
SUMMARY:Kwanzaa 2025
DESCRIPTION:Kwanzaa 2025
URL:https://panafricanconnection.com/event/kwanzaa-2025/
LOCATION:Pan African Connection Bookstore\, 4466 SOUTH MARSALIS AVE\, DALLAS\, TX\, 75216\, United States
CATEGORIES:kwanzaa
ATTACH;FMTTYPE=image/jpeg:https://panafricanconnection.com/wp-content/uploads/601526252_848331841277417_5726827838944064726_n-1.jpg
ORGANIZER;CN="Pan-African Connection Bookstore":MAILTO:panafric@airmail.net
END:VEVENT
END:VCALENDAR