BEGIN:VCALENDAR
VERSION:2.0
PRODID:-//Pan-African Connection - ECPv6.15.20//NONSGML v1.0//EN
CALSCALE:GREGORIAN
METHOD:PUBLISH
X-ORIGINAL-URL:https://panafricanconnection.com
X-WR-CALDESC:Events for Pan-African Connection
REFRESH-INTERVAL;VALUE=DURATION:PT1H
X-Robots-Tag:noindex
X-PUBLISHED-TTL:PT1H
BEGIN:VTIMEZONE
TZID:America/Chicago
BEGIN:DAYLIGHT
TZOFFSETFROM:-0600
TZOFFSETTO:-0500
TZNAME:CDT
DTSTART:20220313T080000
END:DAYLIGHT
BEGIN:STANDARD
TZOFFSETFROM:-0500
TZOFFSETTO:-0600
TZNAME:CST
DTSTART:20221106T070000
END:STANDARD
BEGIN:DAYLIGHT
TZOFFSETFROM:-0600
TZOFFSETTO:-0500
TZNAME:CDT
DTSTART:20230312T080000
END:DAYLIGHT
BEGIN:STANDARD
TZOFFSETFROM:-0500
TZOFFSETTO:-0600
TZNAME:CST
DTSTART:20231105T070000
END:STANDARD
BEGIN:DAYLIGHT
TZOFFSETFROM:-0600
TZOFFSETTO:-0500
TZNAME:CDT
DTSTART:20240310T080000
END:DAYLIGHT
BEGIN:STANDARD
TZOFFSETFROM:-0500
TZOFFSETTO:-0600
TZNAME:CST
DTSTART:20241103T070000
END:STANDARD
BEGIN:DAYLIGHT
TZOFFSETFROM:-0600
TZOFFSETTO:-0500
TZNAME:CDT
DTSTART:20250309T080000
END:DAYLIGHT
BEGIN:STANDARD
TZOFFSETFROM:-0500
TZOFFSETTO:-0600
TZNAME:CST
DTSTART:20251102T070000
END:STANDARD
BEGIN:DAYLIGHT
TZOFFSETFROM:-0600
TZOFFSETTO:-0500
TZNAME:CDT
DTSTART:20260308T080000
END:DAYLIGHT
BEGIN:STANDARD
TZOFFSETFROM:-0500
TZOFFSETTO:-0600
TZNAME:CST
DTSTART:20261101T070000
END:STANDARD
END:VTIMEZONE
BEGIN:VEVENT
DTSTART;TZID=America/Chicago:20251226T130000
DTEND;TZID=America/Chicago:20251226T210000
DTSTAMP:20260423T132340
CREATED:20251224T152316Z
LAST-MODIFIED:20251224T152316Z
UID:8569-1766754000-1766782800@panafricanconnection.com
SUMMARY:Kwanzaa 2025
DESCRIPTION:Kwanzaa 2025
URL:https://panafricanconnection.com/event/kwanzaa-2025/
LOCATION:Pan African Connection Bookstore\, 4466 SOUTH MARSALIS AVE\, DALLAS\, TX\, 75216\, United States
CATEGORIES:kwanzaa
ATTACH;FMTTYPE=image/jpeg:https://panafricanconnection.com/wp-content/uploads/601526252_848331841277417_5726827838944064726_n-1.jpg
ORGANIZER;CN="Pan-African Connection Bookstore":MAILTO:panafric@airmail.net
END:VEVENT
BEGIN:VEVENT
DTSTART;TZID=America/Chicago:20241229T120000
DTEND;TZID=America/Chicago:20241229T170000
DTSTAMP:20260423T132340
CREATED:20241221T163521Z
LAST-MODIFIED:20241221T163521Z
UID:7815-1735473600-1735491600@panafricanconnection.com
SUMMARY:Ujamaa Kwanzaa Market
DESCRIPTION:
URL:https://panafricanconnection.com/event/ujamaa-kwanzaa-market/
LOCATION:Pan African Connection Bookstore\, 4466 SOUTH MARSALIS AVE\, DALLAS\, TX\, 75216\, United States
CATEGORIES:kwanzaa
ATTACH;FMTTYPE=image/jpeg:https://panafricanconnection.com/wp-content/uploads/470901513_18476065057045858_7213635349556088473_n254.jpg
ORGANIZER;CN="Pan-African Connection Bookstore":MAILTO:panafric@airmail.net
END:VEVENT
BEGIN:VEVENT
DTSTART;TZID=America/Chicago:20231231T130000
DTEND;TZID=America/Chicago:20231231T170000
DTSTAMP:20260423T132340
CREATED:20231226T133328Z
LAST-MODIFIED:20231226T133328Z
UID:7138-1704027600-1704042000@panafricanconnection.com
SUMMARY:Day 6 of Kwanzaa
DESCRIPTION:
URL:https://panafricanconnection.com/event/day-6-of-kwanzaa/
LOCATION:TX
CATEGORIES:kwanzaa
ATTACH;FMTTYPE=image/jpeg:https://panafricanconnection.com/wp-content/uploads/411895223_18404434537045858_3399164882388366275_n-1.jpgkuumba-1.jpg
END:VEVENT
BEGIN:VEVENT
DTSTART;TZID=America/Chicago:20231230T130000
DTEND;TZID=America/Chicago:20231230T170000
DTSTAMP:20260423T132340
CREATED:20231226T132808Z
LAST-MODIFIED:20231226T132808Z
UID:7136-1703941200-1703955600@panafricanconnection.com
SUMMARY:Day 5 of Kwanzaa
DESCRIPTION:
URL:https://panafricanconnection.com/event/day-5-of-kwanzaa/
LOCATION:Pan African Connection Bookstore\, 4466 SOUTH MARSALIS AVE\, DALLAS\, TX\, 75216\, United States
CATEGORIES:kwanzaa
ATTACH;FMTTYPE=image/jpeg:https://panafricanconnection.com/wp-content/uploads/412799511_18404434570045858_1252269630966651834_n-3.jpgnia-3.jpg
ORGANIZER;CN="Pan-African Connection Bookstore":MAILTO:panafric@airmail.net
END:VEVENT
BEGIN:VEVENT
DTSTART;TZID=America/Chicago:20231228T130000
DTEND;TZID=America/Chicago:20231228T190000
DTSTAMP:20260423T132340
CREATED:20231226T131301Z
LAST-MODIFIED:20231226T131301Z
UID:7119-1703768400-1703790000@panafricanconnection.com
SUMMARY:Day 3 of Kwanzaa
DESCRIPTION:
URL:https://panafricanconnection.com/event/day-3-of-kwanzaa/
LOCATION:Pan African Connection Bookstore\, 4466 SOUTH MARSALIS AVE\, DALLAS\, TX\, 75216\, United States
CATEGORIES:kwanzaa
ATTACH;FMTTYPE=image/jpeg:https://panafricanconnection.com/wp-content/uploads/412780382_343304818446791_2534209950751314032_n.jpgujima.jpg
ORGANIZER;CN="Pan-African Connection Bookstore":MAILTO:panafric@airmail.net
END:VEVENT
BEGIN:VEVENT
DTSTART;TZID=America/Chicago:20231227T130000
DTEND;TZID=America/Chicago:20231227T190000
DTSTAMP:20260423T132340
CREATED:20231226T130526Z
LAST-MODIFIED:20231226T130526Z
UID:7117-1703682000-1703703600@panafricanconnection.com
SUMMARY:Day 2 of Kwanzaa
DESCRIPTION:
URL:https://panafricanconnection.com/event/day-2-of-kwanzaa/
LOCATION:Pan African Connection Bookstore\, 4466 SOUTH MARSALIS AVE\, DALLAS\, TX\, 75216\, United States
CATEGORIES:kwanzaa
ORGANIZER;CN="Pan-African Connection Bookstore":MAILTO:panafric@airmail.net
END:VEVENT
BEGIN:VEVENT
DTSTART;TZID=America/Chicago:20231226T190000
DTEND;TZID=America/Chicago:20231226T210000
DTSTAMP:20260423T132340
CREATED:20231224T204514Z
LAST-MODIFIED:20231226T125020Z
UID:7097-1703617200-1703624400@panafricanconnection.com
SUMMARY:Kwanzaa 2023
DESCRIPTION:  \n  \n 
URL:https://panafricanconnection.com/event/kwanzaa-2023/
LOCATION:Pan African Connection Bookstore\, 4466 SOUTH MARSALIS AVE\, DALLAS\, TX\, 75216\, United States
CATEGORIES:kwanzaa
ATTACH;FMTTYPE=image/jpeg:https://panafricanconnection.com/wp-content/uploads/410941425_18404434594045858_7278970028535770810_n.jpgkwanzaa.jpg
ORGANIZER;CN="Pan-African Connection Bookstore":MAILTO:panafric@airmail.net
END:VEVENT
BEGIN:VEVENT
DTSTART;TZID=America/Chicago:20231226T130000
DTEND;TZID=America/Chicago:20231226T190000
DTSTAMP:20260423T132340
CREATED:20231226T130331Z
LAST-MODIFIED:20231226T130331Z
UID:7102-1703595600-1703617200@panafricanconnection.com
SUMMARY:Day One of Kwanza Umoja (Unity)
DESCRIPTION:
URL:https://panafricanconnection.com/event/day-one-of-kwanza-umoja-unity/
LOCATION:Pan African Connection Bookstore\, 4466 SOUTH MARSALIS AVE\, DALLAS\, TX\, 75216\, United States
CATEGORIES:kwanzaa
ORGANIZER;CN="Pan-African Connection Bookstore":MAILTO:panafric@airmail.net
END:VEVENT
END:VCALENDAR