BEGIN:VCALENDAR
VERSION:2.0
PRODID:-//Pan-African Connection - ECPv6.15.20//NONSGML v1.0//EN
CALSCALE:GREGORIAN
METHOD:PUBLISH
X-ORIGINAL-URL:https://panafricanconnection.com
X-WR-CALDESC:Events for Pan-African Connection
REFRESH-INTERVAL;VALUE=DURATION:PT1H
X-Robots-Tag:noindex
X-PUBLISHED-TTL:PT1H
BEGIN:VTIMEZONE
TZID:America/Chicago
BEGIN:DAYLIGHT
TZOFFSETFROM:-0600
TZOFFSETTO:-0500
TZNAME:CDT
DTSTART:20240310T080000
END:DAYLIGHT
BEGIN:STANDARD
TZOFFSETFROM:-0500
TZOFFSETTO:-0600
TZNAME:CST
DTSTART:20241103T070000
END:STANDARD
BEGIN:DAYLIGHT
TZOFFSETFROM:-0600
TZOFFSETTO:-0500
TZNAME:CDT
DTSTART:20250309T080000
END:DAYLIGHT
BEGIN:STANDARD
TZOFFSETFROM:-0500
TZOFFSETTO:-0600
TZNAME:CST
DTSTART:20251102T070000
END:STANDARD
BEGIN:DAYLIGHT
TZOFFSETFROM:-0600
TZOFFSETTO:-0500
TZNAME:CDT
DTSTART:20260308T080000
END:DAYLIGHT
BEGIN:STANDARD
TZOFFSETFROM:-0500
TZOFFSETTO:-0600
TZNAME:CST
DTSTART:20261101T070000
END:STANDARD
END:VTIMEZONE
BEGIN:VEVENT
DTSTART;TZID=America/Chicago:20251101T110000
DTEND;TZID=America/Chicago:20251101T130000
DTSTAMP:20260423T192010
CREATED:20251031T124228Z
LAST-MODIFIED:20251031T124228Z
UID:8498-1761994800-1762002000@panafricanconnection.com
SUMMARY:Ready\, Set Read !!
DESCRIPTION:
URL:https://panafricanconnection.com/event/ready-set-read-2/
LOCATION:Pan African Connection Bookstore\, 4466 SOUTH MARSALIS AVE\, DALLAS\, TX\, 75216\, United States
CATEGORIES:storytime
ATTACH;FMTTYPE=image/jpeg:https://panafricanconnection.com/wp-content/uploads/574111808_811959391581329_9147252778403854066_n.jpg
ORGANIZER;CN="Pan-African Connection Bookstore":MAILTO:panafric@airmail.net
END:VEVENT
BEGIN:VEVENT
DTSTART;TZID=America/Chicago:20251101T130000
DTEND;TZID=America/Chicago:20251101T170000
DTSTAMP:20260423T192010
CREATED:20251031T124902Z
LAST-MODIFIED:20251031T124902Z
UID:8504-1762002000-1762016400@panafricanconnection.com
SUMMARY:Freedoms Cemetery Ancestor Tribute
DESCRIPTION:
URL:https://panafricanconnection.com/event/freedoms-cemetery-ancestor-tribute/
LOCATION:freedmans Cemetary\, 2700 lemon ave\, dallas\, Texas\, 75204
ATTACH;FMTTYPE=image/jpeg:https://panafricanconnection.com/wp-content/uploads/571680892_811551988288736_999291996238564686_n.jpg
END:VEVENT
END:VCALENDAR