BEGIN:VCALENDAR
VERSION:2.0
PRODID:-//Pan-African Connection - ECPv6.15.20//NONSGML v1.0//EN
CALSCALE:GREGORIAN
METHOD:PUBLISH
X-ORIGINAL-URL:https://panafricanconnection.com
X-WR-CALDESC:Events for Pan-African Connection
REFRESH-INTERVAL;VALUE=DURATION:PT1H
X-Robots-Tag:noindex
X-PUBLISHED-TTL:PT1H
BEGIN:VTIMEZONE
TZID:America/Chicago
BEGIN:DAYLIGHT
TZOFFSETFROM:-0600
TZOFFSETTO:-0500
TZNAME:CDT
DTSTART:20240310T080000
END:DAYLIGHT
BEGIN:STANDARD
TZOFFSETFROM:-0500
TZOFFSETTO:-0600
TZNAME:CST
DTSTART:20241103T070000
END:STANDARD
BEGIN:DAYLIGHT
TZOFFSETFROM:-0600
TZOFFSETTO:-0500
TZNAME:CDT
DTSTART:20250309T080000
END:DAYLIGHT
BEGIN:STANDARD
TZOFFSETFROM:-0500
TZOFFSETTO:-0600
TZNAME:CST
DTSTART:20251102T070000
END:STANDARD
BEGIN:DAYLIGHT
TZOFFSETFROM:-0600
TZOFFSETTO:-0500
TZNAME:CDT
DTSTART:20260308T080000
END:DAYLIGHT
BEGIN:STANDARD
TZOFFSETFROM:-0500
TZOFFSETTO:-0600
TZNAME:CST
DTSTART:20261101T070000
END:STANDARD
END:VTIMEZONE
BEGIN:VEVENT
DTSTART;TZID=America/Chicago:20250503T133000
DTEND;TZID=America/Chicago:20250503T150000
DTSTAMP:20260424T073459
CREATED:20250503T145054Z
LAST-MODIFIED:20250503T145054Z
UID:8040-1746279000-1746284400@panafricanconnection.com
SUMMARY:Book Signing\, with Candice Jones\, You Know What Layla's NICU Journey
DESCRIPTION:
URL:https://panafricanconnection.com/event/book-signing-with-candice-jones-you-know-what-laylas-nicu-journey/
LOCATION:Pan African Connection Bookstore\, 4466 SOUTH MARSALIS AVE\, DALLAS\, TX\, 75216\, United States
CATEGORIES:Book Signing
ATTACH;FMTTYPE=image/jpeg:https://panafricanconnection.com/wp-content/uploads/495215768_18502052530045858_8209214625590101312_n-1.jpg
ORGANIZER;CN="Pan-African Connection Bookstore":MAILTO:panafric@airmail.net
END:VEVENT
BEGIN:VEVENT
DTSTART;TZID=America/Chicago:20250503T150000
DTEND;TZID=America/Chicago:20250503T170000
DTSTAMP:20260424T073459
CREATED:20250503T144545Z
LAST-MODIFIED:20250503T144545Z
UID:8034-1746284400-1746291600@panafricanconnection.com
SUMMARY:Book signing with Terrence Southern\, Trust finding Faith within
DESCRIPTION:
URL:https://panafricanconnection.com/event/book-signing-with-terrence-southern-trust-finding-faith-within/
LOCATION:Pan African Connection Bookstore\, 4466 SOUTH MARSALIS AVE\, DALLAS\, TX\, 75216\, United States
ATTACH;FMTTYPE=image/jpeg:https://panafricanconnection.com/wp-content/uploads/495548058_671637865613483_7556830271423688803_n.jpg
ORGANIZER;CN="Pan-African Connection Bookstore":MAILTO:panafric@airmail.net
END:VEVENT
END:VCALENDAR